BEGIN:VCALENDAR
VERSION:2.0
PRODID:-//Patriot Guard Riders - ECPv5.3.2.1//NONSGML v1.0//EN
CALSCALE:GREGORIAN
METHOD:PUBLISH
X-WR-CALNAME:Patriot Guard Riders
X-ORIGINAL-URL:https://www.patriotguard.org
X-WR-CALDESC:Events for Patriot Guard Riders
BEGIN:VTIMEZONE
TZID:America/New_York
BEGIN:DAYLIGHT
TZOFFSETFROM:-0500
TZOFFSETTO:-0400
TZNAME:EDT
DTSTART:20170312T070000
END:DAYLIGHT
BEGIN:STANDARD
TZOFFSETFROM:-0400
TZOFFSETTO:-0500
TZNAME:EST
DTSTART:20171105T060000
END:STANDARD
END:VTIMEZONE
BEGIN:VEVENT
DTSTART;TZID=America/New_York:20170930T143000
DTEND;TZID=America/New_York:20170930T163000
DTSTAMP:20210403T113122
CREATED:20170930T183000Z
LAST-MODIFIED:20191201T031027Z
UID:314749-1506781800-1506789000@www.patriotguard.org
SUMMARY:William Allen Nelson\, Veteran\, USA - Korea
DESCRIPTION:William Allen Nelson\, Veteran\nUSA – Korea\nPensacola\, Florida – 30 Sep 2017\n\n\n[HR][/HR]\nABOUT THE MISSION: \n\nThe Patriot Guard has been invited by the family of Sgt. William Allen Nelson\, United States Army\, to escort and stand in his honor at Pine Forest United Methodist Church Cemetery\, 2800 Wilde Lake Blvd\, Pensacola\, Florida. Sgt.\nNelson served honorably in the United States Army for one year\, eleven months and eleven days.\nSgt. Nelson’s awards include the Korean Service Medal w/ one Bronze star\, United Nations Service Medal\, National Defense Service Medal\, Presidential Unit Citation\, Good Conduct Medal\, Commendation Ribbon with Metal Pendant.\nAll arrangements are in the care of Trahan Funeral Home\, 419 Yoakum Court\, Pensacola\, Florida.\n\n\nPRIMARY STAGING DETAILS: 30 Sep 2017\nPrimary Staging Time: 1430 \n\nMcDonalds\, (NW corner of Pace and Fairfield.)\nPensacola\, Florida –\n\n\nRide Captain: \n\nBilly Early\, MSgt\, USAF (Ret)\n(850) 485-9600\n\n\nSpecial Instructions: \n\n1500 – Safety Briefing for all riders\n1515 – KSU to Trahan Funeral Home\n1530 – Arrive Trahan Funeral Home. Service in progress\n1600 – KSU to Pine Forest United Methodist Church Cemetery\, with LEO escort\nTBD – Honors at United Methodist Church Cemetery.\n\n\nFlags & Water: \n\nFlags Will Be Provided\nIf you have large bike flags\, please bring them.\nWater will be provided.\n\n\nSubmitted By: Ray Doyle\nPosition: Assistant State Captain\n[HR][/HR]Note:\nYou do not have to own/ride a motorcycle or be a Veteran to join and membership is Free. The only requirement is RESPECT! To join\, simply go to www.PatriotGuard.org and click on Register. Membership is Free. \nTo subscribe to receive mission notices\, log into the National Site and click on the Mission Tab at the top. Select the Subscribe to Missionsoption.
URL:https://www.patriotguard.org/mission/william-allen-nelson-veteran-usa-korea/
END:VEVENT
END:VCALENDAR