BEGIN:VCALENDAR
VERSION:2.0
PRODID:-//Patriot Guard Riders - ECPv5.3.2.1//NONSGML v1.0//EN
CALSCALE:GREGORIAN
METHOD:PUBLISH
X-WR-CALNAME:Patriot Guard Riders
X-ORIGINAL-URL:https://www.patriotguard.org
X-WR-CALDESC:Events for Patriot Guard Riders
BEGIN:VTIMEZONE
TZID:America/New_York
BEGIN:DAYLIGHT
TZOFFSETFROM:-0500
TZOFFSETTO:-0400
TZNAME:EDT
DTSTART:20170312T070000
END:DAYLIGHT
BEGIN:STANDARD
TZOFFSETFROM:-0400
TZOFFSETTO:-0500
TZNAME:EST
DTSTART:20171105T060000
END:STANDARD
END:VTIMEZONE
BEGIN:VEVENT
DTSTART;TZID=America/New_York:20170428T134500
DTEND;TZID=America/New_York:20170428T154500
DTSTAMP:20210402T010502
CREATED:20170428T174500Z
LAST-MODIFIED:20191201T033517Z
UID:336192-1493387100-1493394300@www.patriotguard.org
SUMMARY:William A. Wooster\, Jr.\, EMS/EMT
DESCRIPTION:William A. Wooster\, Jr. \nEMS/EMT \nMULTI-CITY\, New York – 28 Apr 2017\n\n[HR][/HR]\nABOUT THE MISSION: \nWe have been requested by one of our PGR brothers to stand in Honor of his Hero father. William A. Wooster\, Jr. of Leicester (Livingston County) passed away on March 21st at the age of 83. Mr. Wooster worked at the Retsof Salt Company for 37 years\, including the last 20 years as a 1st Responder with the Mine Rescue Team. Mr. Wooster is credited with saving numerous lives on several occasions during explosions and cave-ins deep underground. Mr. Wooster was also a long-time Boy Scout leader\, with 8 Eagle Scouts to his credit. \nMr. Wooster’s son is one of our own. He continues to be a member of PGRNY\, but now lives in Arizona. He is a Ride Captain with PGR Arizona\, and is also the PGR HOTH State Coordinator for the State of Arizona\, and is also active in Missions in several other States. Obviously\, Mr. Wooster’s son contributes a tremendous amount of his time in support of the Patriot Guard Riders\, and this Mission is an opportunity to give he and his family a small amount of support. This Mission is in two (2) parts\, but both are relatively short. \nPRIMARY STAGING DETAILS: 28 Apr 2017 \n \nPrimary Staging Time: 1:45 P.M.\n\nBrian’s USA Diner\n5524 Mt. Morris Road (Route 36)\n(North of entrance to Letchworth State Park)\n\nMt Morris\, New York – 14510\n\n\nhttp://mapq.st/2oM3dV6\n\n \nRide Captain:\n\nDon Higgins\ngladiator6988@hotmail.com\n585-739-6798\n\n \nSpecial Instructions:\n\nThis is the third of three Missions on Friday in Region-1. Please try to support one of them. \nFriday is very short. KSU at 2:15 PM. We will travel nearby to the family home\, and escort to Leicester Cemetery for the Interment of Mr. Wooster. Large bike flags for this escort are encouraged. Please ensure your large bike flags are properly placed and securely attached.\n\n \nFlags & Water:\n\nFlags Will NOT Be Provided\, Please Bring Your Own.\n\nIf you have large bike flags\, please bring them.\n\nWater WILL NOT be provided\, please bring your own.\n\n[HR][/HR]\nSTAGING #2 DETAILS: 29 Apr\, 2017 \n \nStaging #2 Time: 9:45 A.M.\n\nA-On-Do-Wa-Nuh Sportsman Club\n4716 River Road\n\nLeicester\, New York – 14481\n\n\nhttp://mapq.st/2oLRlm6\n\n \nRide Captain:\n\nDon Higgins\ngladiator6988@hotmail.com\n585-739-6798\n\n \nSpecial Instructions:\n\nSaturday\, we will provide a Flag Line for arrival of the family and guests\, for the Memorial Service at 11:00 AM. \nPGR members are invited to the reception following. \nNo escort involved\, if weather is inclement\, bikes not required. \nPlease be prepared with a clean 3×5 American Flag\, and dress for the weather.\n\n \nFlags & Water:\n\nFlags Will NOT Be Provided\, Please Bring Your Own.\n\nLarge Bike Flags will NOT be needed\n\nWater WILL NOT be provided\, please bring your own.\n\n\nSubmitted By: Ray Sestak\nPosition: Ride Captain \n[HR][/HR]\nNote:\nYou do not have to own/ride a motorcycle or be a Veteran to join and membership is Free. The only requirement is RESPECT! To join\, simply go to www.PatriotGuard.org and click on Register. Membership is Free. \nTo subscribe to receive mission notices\, log into the National Site and click on the Mission Tab at the top. Select Upcoming Missions by State. Scroll to the state(s) you would like to receive notices for and click on the green check mark. Detailed instructions are also located in the FAQs on the site by clicking on the Quick Links Tab and selecting FAQs.
URL:https://www.patriotguard.org/mission/william-a-wooster-jr-ems-emt/
LOCATION:Elmer Clarence Wilson
END:VEVENT
END:VCALENDAR