BEGIN:VCALENDAR
VERSION:2.0
PRODID:-//Patriot Guard Riders - ECPv5.6.0//NONSGML v1.0//EN
CALSCALE:GREGORIAN
METHOD:PUBLISH
X-WR-CALNAME:Patriot Guard Riders
X-ORIGINAL-URL:https://www.patriotguard.org
X-WR-CALDESC:Events for Patriot Guard Riders
BEGIN:VTIMEZONE
TZID:America/New_York
BEGIN:DAYLIGHT
TZOFFSETFROM:-0500
TZOFFSETTO:-0400
TZNAME:EDT
DTSTART:20160313T070000
END:DAYLIGHT
BEGIN:STANDARD
TZOFFSETFROM:-0400
TZOFFSETTO:-0500
TZNAME:EST
DTSTART:20161106T060000
END:STANDARD
END:VTIMEZONE
BEGIN:VEVENT
DTSTART;TZID=America/New_York:20160618T090000
DTEND;TZID=America/New_York:20160618T110000
DTSTAMP:20210513T181155
CREATED:20160618T130000Z
LAST-MODIFIED:20191201T145029Z
UID:411232-1466240400-1466247600@www.patriotguard.org
SUMMARY:William A. Nistor\, USCG - USCGR
DESCRIPTION:Please  note that due to ongoing OPSEC concerns\, mission details are not shown  in this posting. All specific details and updates have been sent to  members directly via their e-mail address on file.\n\nWe have been requested to stand in Honor of US Coast Guard Veteran William A. Nistor\, who passed away on June 14th.\nMr.  Nistor served four (4) different periods in the Active and Active  Reserve U.S. Coast Guard\, between 1945 and 1960.  His first enlistment  was during WW-II\, for which he was awarded the American Campaign Medal  and WW-II Victory Medal.  Mr. Nistor’s final  Honorable Discharge was on 9 January 1960 with the rank of Boatswain’s  Mate 2nd Class (BM2.)\n\nMission Details:\nSaturday\, June 18\, 2016\nHamburg\, NY  14075 \nEscort at 10:00 AM\nHamburg\, NY  14075 \nInterment with Military Honors \nPlease Note:  This is a very short Mission\, and we have two (2) other Missions (Buffalo and Holley) in Region-1 on Saturday.  Please do whatever you are able to participate in one or more of these important salutes to the Veterans and their families. \nPlease arrive on time with a clean 3×5 American Flag or a USCG flag.  Dress for the warm weather\, and ensure your bike flags are properly placed and securely attached. \nBob Woodward\, LRC\nbobwood2294@gmail.com \nDon Higgins\, SRC\ngladiator6988@hotmail.com
URL:https://www.patriotguard.org/mission/william-a-nistor-uscg-uscgr/
CATEGORIES:Archive
END:VEVENT
END:VCALENDAR