BEGIN:VCALENDAR
VERSION:2.0
PRODID:-//Patriot Guard Riders - ECPv5.6.0//NONSGML v1.0//EN
CALSCALE:GREGORIAN
METHOD:PUBLISH
X-WR-CALNAME:Patriot Guard Riders
X-ORIGINAL-URL:https://www.patriotguard.org
X-WR-CALDESC:Events for Patriot Guard Riders
BEGIN:VTIMEZONE
TZID:America/New_York
BEGIN:DAYLIGHT
TZOFFSETFROM:-0500
TZOFFSETTO:-0400
TZNAME:EDT
DTSTART:20160313T070000
END:DAYLIGHT
BEGIN:STANDARD
TZOFFSETFROM:-0400
TZOFFSETTO:-0500
TZNAME:EST
DTSTART:20161106T060000
END:STANDARD
END:VTIMEZONE
BEGIN:VEVENT
DTSTART;TZID=America/New_York:20160827T090000
DTEND;TZID=America/New_York:20160827T110000
DTSTAMP:20210512T043720
CREATED:20160827T130000Z
LAST-MODIFIED:20191201T143252Z
UID:409609-1472288400-1472295600@www.patriotguard.org
SUMMARY:Willard R. Russell\, 92\, USA
DESCRIPTION:Willard Ralph Russell\nWWII Army\nStage at the church\n08-27-2016 \n\n\nMr. Russell was born on  January 2\, 1924 in Robeline La. He passed away on Thursday August 25\,  2016 at Sabine Medical Center in Many La. He was 92. He joined the US  Army and was stationed overseas during WWII. He is preceded in death by  his wife of 61 years. survived by three daughters and one son. Lots of  grandchildren\, great grandchildren\, and nieces and nephews.\n\nPRIMARY STAGING INFO – 08-27-2016:\nLocation:\nChurch of Jesus Christ of Latter Day Saints\n2084 Natchitoches Hwy. (La 6)\nHwy 6 east of Many about one mile. Just past the high school on the right. \nStage at the church \nStaging Time:\n1:00 P.M. \nSpecial Instructions:\nWe will stand a Flag Line until services start at 2:00. After services  we will escort Mr. Russell to his final resting place at the Fort Jesup  Cemetery about 2 miles away.\n\nRCIC:\nFreddie Grappe – fgrappe@bellsouth.net \nAssisting RCs:\nLarry Alford – lalford60@yahoo.com \nFlags will be provided.\nLarge bike flags will be needed. \nWeather:\nHot!!! Be sure to hydrate night before!!!
URL:https://www.patriotguard.org/mission/willard-r-russell-92-usa/
CATEGORIES:Archive
END:VEVENT
END:VCALENDAR