BEGIN:VCALENDAR
VERSION:2.0
PRODID:-//Patriot Guard Riders - ECPv5.6.0//NONSGML v1.0//EN
CALSCALE:GREGORIAN
METHOD:PUBLISH
X-WR-CALNAME:Patriot Guard Riders
X-ORIGINAL-URL:https://www.patriotguard.org
X-WR-CALDESC:Events for Patriot Guard Riders
BEGIN:VTIMEZONE
TZID:America/New_York
BEGIN:DAYLIGHT
TZOFFSETFROM:-0500
TZOFFSETTO:-0400
TZNAME:EDT
DTSTART:20210314T070000
END:DAYLIGHT
BEGIN:STANDARD
TZOFFSETFROM:-0400
TZOFFSETTO:-0500
TZNAME:EST
DTSTART:20211107T060000
END:STANDARD
END:VTIMEZONE
BEGIN:VEVENT
DTSTART;VALUE=DATE:20210514
DTEND;VALUE=DATE:20210515
DTSTAMP:20210512T074734
CREATED:20210510T151231Z
LAST-MODIFIED:20210510T151231Z
UID:576754-1620950400-1621036799@www.patriotguard.org
SUMMARY:Willard George Zeober (Will)
DESCRIPTION:Honor Mission\nWillard George Zeober (Will)\, Veteran\nUSA – Korea\nPortland\, Oregon – 05-14-21\n\n\n\nABOUT THE MISSION: \nLadies and Gentlemen of the Patriot Guard Riders\, we have been invited to stand for Willard George Zeober\, age 91. Will served in the US Army from 20 Sept. 1951 to 28 Jan. 1954 and was a Pole Lineman. During his service he received the Korean Service Medal and the National Defense Service Medal. Please join us as we pay our respects and honor his service to our nation.\n\n\nPRIMARY STAGING DETAILS: 05-14-21 \nStaging Time: 08:30 AM\n \nWillamette National Cemetery\n11800 SE Mt Scott Blvd\nPortland\, Oregon 97038\nMap\n\n\nRide Captain: \nTim Johnson\ntimjo1950@gmail.com\n\n\nSpecial Instructions: \nBriefing: 8:45 AM\nKSU: 9:00 AM\nFlagline Set: 9:15 AM\nService Begins: 9:30 AM\nMeet up top at the Rostrum by the flagpole.\n*** There will be an RHG if possible ***\n\n\nFlags & Water:\nFlags will not be provided\nIf you have large bike flags\, please bring them.\nWater WILL NOT be provided\, please bring your own.\n\n\nSubmitted By: Debbie Parrack \nPosition: \n\nNote: You do not have to own/ride a motorcycle or be a veteran to join\, and membership is Free. The only requirement is RESPECT! To subscribe to receive mission notices\, log into the National Site and click on the Members tab at the top. Select the Subscribe to PGR Missions option.\n Print This Page
URL:https://www.patriotguard.org/mission/willard-george-zeober-will/
CATEGORIES:Honor Mission
END:VEVENT
END:VCALENDAR