BEGIN:VCALENDAR
VERSION:2.0
PRODID:-//Patriot Guard Riders - ECPv5.6.0//NONSGML v1.0//EN
CALSCALE:GREGORIAN
METHOD:PUBLISH
X-WR-CALNAME:Patriot Guard Riders
X-ORIGINAL-URL:https://www.patriotguard.org
X-WR-CALDESC:Events for Patriot Guard Riders
BEGIN:VTIMEZONE
TZID:America/New_York
BEGIN:DAYLIGHT
TZOFFSETFROM:-0500
TZOFFSETTO:-0400
TZNAME:EDT
DTSTART:20160313T070000
END:DAYLIGHT
BEGIN:STANDARD
TZOFFSETFROM:-0400
TZOFFSETTO:-0500
TZNAME:EST
DTSTART:20161106T060000
END:STANDARD
END:VTIMEZONE
BEGIN:VEVENT
DTSTART;TZID=America/New_York:20160730T090000
DTEND;TZID=America/New_York:20160730T110000
DTSTAMP:20210512T133641
CREATED:20160730T130000Z
LAST-MODIFIED:20191201T144016Z
UID:410298-1469869200-1469876400@www.patriotguard.org
SUMMARY:Wilhelm Norberg\, 68\, USAF
DESCRIPTION:The  Patriot Guard Riders have been invited by the family to stand a silent  flag line in honor of Wilhelm “Bill” Norberg’s service to our country. \nBill served in the United States Air Force from 1967 to 1969.  Mr.  Wilhelm served one tour in Vietnam achieving the rank of Sgt. He was  awarded the National Defense Service Medal\, Vietnam Service Medal\,  Republic of Vietnam Campaign Medal\, and Sharpshooter’s badge. \nBill is  survived by his wife Gerri\, two daughters\, and many extended family. \nPlease join us to stand for Mr. Wilhelm and support his family in this  time of grief. \nSaturday\, July 30\, 2016 \nService Location: \nNelson-House Funeral Homes Martin Chapel\n316 West Broad Street\nChesaning\, Mi. 48616 \nStage:  9:15 AM\nBrief:    9:45 AM\nFlag Line: 10:00 AM to 11:00 AM (Time of Service) \nThe  family has requested an escort form the funeral home to the cemetery  where we will join the Chesaning American Legion Post 212 for honors.  The route is approximately 18 miles over Michigan highways. Please  insure you and your bike accessories can handle moderate speeds.\n\nYou must be at the briefing to participate in the escort. \nPlease bring your 3 x 5 American flags to stand for Mr. Wilhelm. \nEscort Location: \nNelson-House Funeral Homes Martin Chapel\n316 West Broad Street\nChesaning\, MI. 48616 \nStage: 11:15 AM\nBrief: 11:30 AM\nK.S.U. 11:50 AM (approximate) \nRC: John and Diane Mulvaney\n       989-295-4419
URL:https://www.patriotguard.org/mission/wilhelm-norberg-68-usaf/
CATEGORIES:Archive
END:VEVENT
END:VCALENDAR