BEGIN:VCALENDAR
VERSION:2.0
PRODID:-//Patriot Guard Riders - ECPv5.3.2.1//NONSGML v1.0//EN
CALSCALE:GREGORIAN
METHOD:PUBLISH
X-WR-CALNAME:Patriot Guard Riders
X-ORIGINAL-URL:https://www.patriotguard.org
X-WR-CALDESC:Events for Patriot Guard Riders
BEGIN:VTIMEZONE
TZID:America/New_York
BEGIN:DAYLIGHT
TZOFFSETFROM:-0500
TZOFFSETTO:-0400
TZNAME:EDT
DTSTART:20190310T070000
END:DAYLIGHT
BEGIN:STANDARD
TZOFFSETFROM:-0400
TZOFFSETTO:-0500
TZNAME:EST
DTSTART:20191103T060000
END:STANDARD
END:VTIMEZONE
BEGIN:VEVENT
DTSTART;VALUE=DATE:20190531
DTEND;VALUE=DATE:20190601
DTSTAMP:20210405T023457
CREATED:20190530T032815Z
LAST-MODIFIED:20190530T032815Z
UID:162682-1559260800-1559347199@www.patriotguard.org
SUMMARY:Wilford Lee "Bill" Strahan
DESCRIPTION:Honor Mission\nWilford Lee “Bill” Strahan\, Retired\nUSA – WWII\nDuncanville\, Texas – 05-31-19\n\n\n\nABOUT THE MISSION: \nWilford (Sarge) joined the Army in 1945\, fought in WWII and retired from the Army in 1967 after 22 years of service. He also worked for the City of Duncanville as a police dispatcher and for the Dallas County Sheriff’s department as a jailer and bailiff. He retired from the Dallas County Sheriff’s department in 1984.\n\n\nPRIMARY STAGING DETAILS: 05-31-19 \nStaging Time: 10:00 AM\n \nDavid Clayton & Sons Funeral Home\n200 West Center Street\nDuncanville\, Texas 75166\n\n\nRide Captain: \nMike Flocken\nmikefl@flash.net\n(214) 458-4473\n\nRide Captain 2: Rick Crabb\, randjcrabb@juno.com\, (910) 330-9861\n\n\nSpecial Instructions: \nStaging Time: 10:00\nBriefing Time: 10:15\nIn Position/KSU Time: 10:30\nStarting Time: 11:00\nAfter the Mission Brief\, the Riders will establish the Flag Line and await the arrival of SFC Strahan’s family and friends.\nWhen directed\, the Riders will return the flags to the support vehicle\, receive the Safety Brief and prepare to accompany the procession to the cemetery.\nRiders not participating in the procession will proceed to the Little Bethel Cemetery and assist with setting up the flags. Procession Escort Provided\n\n\nFlags & Water:\nFlags will be provided\nIf you have large bike flags\, please bring them.\nWater will be provided.\n\nSTAGING #2 DETAILS: 05-31-19 \nStaging Time: 11:15 AM\n \nLittle Bethel Cemetery\n1803 South Cedar Hill Road\nDuncanville\, Texas 75137\n\n\nRide Captain: \nMike Flocken\nmikefl@flash.net\n(214) 458-4473\n\nRide Captain 2: Rick Crabb\, randjcrabb@juno.com\, (910) 330-9861\n\n\nSpecial Instructions: \nStaging Time: 11:15\nBriefing Time: 11:30\nIn Position/KSU Time: 11:45\nStarting Time: 12:00\nAfter the Mission Briefing honor bikes will be identified and move to the Funeral Home Staging Lane to accompany the procession from the David Clayton funeral home to the Little Bethel Cemetery. Riders not wishing to ride in the procession may proceed to the Little Bethel Cemetery\, establish the Flag Line and prepare to receive the family and friends of Mr. Strahan for the committal service. When directed the Riders will return the flags to the support vehicle\, be debriefed and dismissed.\n\n\nFlags & Water:\nFlags will be provided\nIf you have large bike flags\, please bring them.\nWater will be provided.\n\n\n\nSubmitted By: Dan Mathys \nPosition: Texas Ride Captain \n\nNote: You do not have to own/ride a motorcycle or be a veteran to join\, and membership is Free. The only requirement is RESPECT! To subscribe to receive mission notices\, log into the National Site and click on the Members tab at the top. Select the Subscribe to PGR Missions option.\n Print This Page
URL:https://www.patriotguard.org/mission/wilford-lee-bill-strahan/
CATEGORIES:Honor Mission
END:VEVENT
END:VCALENDAR