BEGIN:VCALENDAR
VERSION:2.0
PRODID:-//Patriot Guard Riders - ECPv5.6.0//NONSGML v1.0//EN
CALSCALE:GREGORIAN
METHOD:PUBLISH
X-WR-CALNAME:Patriot Guard Riders
X-ORIGINAL-URL:https://www.patriotguard.org
X-WR-CALDESC:Events for Patriot Guard Riders
BEGIN:VTIMEZONE
TZID:America/New_York
BEGIN:DAYLIGHT
TZOFFSETFROM:-0500
TZOFFSETTO:-0400
TZNAME:EDT
DTSTART:20160313T070000
END:DAYLIGHT
BEGIN:STANDARD
TZOFFSETFROM:-0400
TZOFFSETTO:-0500
TZNAME:EST
DTSTART:20161106T060000
END:STANDARD
END:VTIMEZONE
BEGIN:VEVENT
DTSTART;TZID=America/New_York:20160706T090000
DTEND;TZID=America/New_York:20160706T110000
DTSTAMP:20210512T130905
CREATED:20160706T130000Z
LAST-MODIFIED:20191201T144549Z
UID:410812-1467795600-1467802800@www.patriotguard.org
SUMMARY:Wilford John Gray\, USMC\, WW II
DESCRIPTION:The family of Wilford “John” Gray  of Paducah have requested the Patriot Guard to stand a flag line at his services and escort to his final resting place and we will be honored to  do so. \nMr Gray served in Korea as a raider and also in WW ll where he  received the Purple Heart\, Good Conduct Metal\, Presidential Unit  Citation Award plus sever other awards and medals. \nServices will be at Milner and Orr\, 3745 Old US 45 South  Lone Oak\, at 11:00 AM\, Wednesday\, July 6th with visitation starting at  10:00 AM.\n\nStaging will be at Pocket Shell 1009 Paris Rd Mayfield \nStaging: 8:45 AM\nKSU: 9:00 AM \nor meet at the funeral home at 9:30\n\n Senior Ride Captain\nDan Bondurant\n270-705-0307
URL:https://www.patriotguard.org/mission/wilford-john-gray-usmc-ww-ii/
CATEGORIES:Archive
END:VEVENT
END:VCALENDAR