BEGIN:VCALENDAR
VERSION:2.0
PRODID:-//Patriot Guard Riders - ECPv5.3.2.1//NONSGML v1.0//EN
CALSCALE:GREGORIAN
METHOD:PUBLISH
X-WR-CALNAME:Patriot Guard Riders
X-ORIGINAL-URL:https://www.patriotguard.org
X-WR-CALDESC:Events for Patriot Guard Riders
BEGIN:VTIMEZONE
TZID:America/New_York
BEGIN:DAYLIGHT
TZOFFSETFROM:-0500
TZOFFSETTO:-0400
TZNAME:EDT
DTSTART:20190310T070000
END:DAYLIGHT
BEGIN:STANDARD
TZOFFSETFROM:-0400
TZOFFSETTO:-0500
TZNAME:EST
DTSTART:20191103T060000
END:STANDARD
END:VTIMEZONE
BEGIN:VEVENT
DTSTART;TZID=America/New_York:20190822T000000
DTEND;TZID=America/New_York:20190823T000000
DTSTAMP:20210402T074229
CREATED:20190821T203951Z
LAST-MODIFIED:20190821T223034Z
UID:171553-1566432000-1566518400@www.patriotguard.org
SUMMARY:Wilber Clem Flickinger
DESCRIPTION:Honor Mission\nWilber Clem Flickinger\, Retired\nUSN – WWII\nLaPlata\, Missouri – 08-22 and 23-19\n\n\n\n\nABOUT THE MISSION: \nThe family of Wilber Clem Flickinger has requested the Patriot Guard Riders to stand in honor and to escort their loved one to his final resting place.  Wilber proudly served in the U S Navy during WWII\, from 1944 to 1946\, 1 year\, 7 months and 5 days of service.\n\n\nPRIMARY STAGING DETAILS: 08-22-19 \nStaging Time: 4:30 pm  \nTravis Funeral Chapel\n125 S. Church Street\nLaPlata\, Missouri 63549\n\n\nRide Captain: \nDarek Fowler\n660-342-5323\ndarekfowler@yahoo.com\n\n\nSpecial Instructions: \nStage: 4:30 pm with ride briefing to follow.\nVisitation:  5:00 pm to 8:00 pm.  Come and go as you can.\n\nFlags & Water:\nFlags will be provided\nLarge Bike Flags will NOT be needed.\nWater WILL NOT be provided\, please bring your own.\n\nSTAGING #2 DETAILS: 08-23-19 \nStaging Time: 11:00 am\n \nTravis Funeral Chapel\n125 S. Church Street\nLaPlata\, Missouri 63549\n\n\nRide Captain: \nJan Watts\n660-349-9134\nliltyke.2355@gmail.com\n\n\nSpecial Instructions: \nStage and briefing at 11:00 am.\nFlag line prior to service.\nService: 12 noon.\nEscort:  To Missouri Veterans Cemetery in Jacksonville\, MO following service (approximately 30 miles).  Time slot at 2:00 pm.\n\nFlags & Water:\nFlags will be provided\nIf you have large bike flags\, please bring them.\nWater will be provided.\n\n\n\nSubmitted By: Jan Watts \nPosition: Missouri Ride Captain \n\nNote: You do not have to own/ride a motorcycle or be a veteran to join\, and membership is Free. The only requirement is RESPECT! To subscribe to receive mission notices\, log into the National Site and click on the Members tab at the top. Select the Subscribe to PGR Missions option.\n Print This Page
URL:https://www.patriotguard.org/mission/wilber-clem-flickinger/
CATEGORIES:Honor Mission
END:VEVENT
END:VCALENDAR