BEGIN:VCALENDAR
VERSION:2.0
PRODID:-//Patriot Guard Riders - ECPv5.3.2.1//NONSGML v1.0//EN
CALSCALE:GREGORIAN
METHOD:PUBLISH
X-WR-CALNAME:Patriot Guard Riders
X-ORIGINAL-URL:https://www.patriotguard.org
X-WR-CALDESC:Events for Patriot Guard Riders
BEGIN:VTIMEZONE
TZID:America/New_York
BEGIN:DAYLIGHT
TZOFFSETFROM:-0500
TZOFFSETTO:-0400
TZNAME:EDT
DTSTART:20170312T070000
END:DAYLIGHT
BEGIN:STANDARD
TZOFFSETFROM:-0400
TZOFFSETTO:-0500
TZNAME:EST
DTSTART:20171105T060000
END:STANDARD
END:VTIMEZONE
BEGIN:VEVENT
DTSTART;TZID=America/New_York:20171107T093000
DTEND;TZID=America/New_York:20171107T113000
DTSTAMP:20210401T190417
CREATED:20171107T143000Z
LAST-MODIFIED:20191201T030355Z
UID:308518-1510047000-1510054200@www.patriotguard.org
SUMMARY:West Wing School Veteran's Appreciation\, Veteran\,
DESCRIPTION:West Wing School Veteran’s Appreciation\, Veteran\nUSA\, USN\, USMC\, USCG\, USAF\nPeoria\, Arizona – 07 Nov 2017\n\n\n[HR][/HR]\nABOUT THE MISSION: \n\nWest Wing Elementary School is its 2nd annual Veteran’s Appreciation Assembly. The kids serve Veteran’s breakfast\, and then honor them during an assembly complete with the National Anthem\, Pledge of Allegiance\, guest speakers and the ROTC. We have been invited to ride on with our Honor bikes and other bike\, and share our briefing/song with the assembly then stand a flagline to help them honor these Veterans. We will stage a short distance from the school\, and ride in as a group.\nIf you have large bike flags\, flew bring them. Road Guards\, please attend if you can.\n\n\nPRIMARY STAGING DETAILS: 07 Nov 2017\nPrimary Staging Time: 9:30 A.M. \n\nWest Wing community center\,\n27008 High Desert Drive\nPeoria\, Arizona – 85383\n\n\nRide Captain: \n\nBill Wooster\npgrhoth@gmail.com\n480-747-7091 \nFlag Support TBD\n \n\nSpecial Instructions: \n\nStaging here and flag up.for the short ride on to the school grounds at 10:00 a.m.\n\n\nFlags & Water: \n\nFlags Will Be Provided\nIf you have large bike flags\, please bring them.\nWater will be provided.\n\n\nSubmitted By: Bill Wooster\nPosition: Ride Captain\n[HR][/HR]Note:\nYou do not have to own/ride a motorcycle or be a Veteran to join and membership is Free. The only requirement is RESPECT! To join\, simply go to www.PatriotGuard.org and click on Register. Membership is Free. \nTo subscribe to receive mission notices\, log into the National Site and click on the Mission Tab at the top. Select the Subscribe to Missionsoption.
URL:https://www.patriotguard.org/mission/west-wing-school-veterans-appreciation-veteran/
END:VEVENT
END:VCALENDAR