BEGIN:VCALENDAR
VERSION:2.0
PRODID:-//Patriot Guard Riders - ECPv5.3.2.1//NONSGML v1.0//EN
CALSCALE:GREGORIAN
METHOD:PUBLISH
X-WR-CALNAME:Patriot Guard Riders
X-ORIGINAL-URL:https://www.patriotguard.org
X-WR-CALDESC:Events for Patriot Guard Riders
BEGIN:VTIMEZONE
TZID:America/New_York
BEGIN:DAYLIGHT
TZOFFSETFROM:-0500
TZOFFSETTO:-0400
TZNAME:EDT
DTSTART:20190310T070000
END:DAYLIGHT
BEGIN:STANDARD
TZOFFSETFROM:-0400
TZOFFSETTO:-0500
TZNAME:EST
DTSTART:20191103T060000
END:STANDARD
END:VTIMEZONE
BEGIN:VEVENT
DTSTART;VALUE=DATE:20190703
DTEND;VALUE=DATE:20190704
DTSTAMP:20210403T201620
CREATED:20190629T162656Z
LAST-MODIFIED:20190629T162656Z
UID:166243-1562112000-1562198399@www.patriotguard.org
SUMMARY:West Jordan Western Stampede Rodeo
DESCRIPTION:HOTH Mission\nWest Jordan Western Stampede Rodeo\n–\nW Jordan\, Utah – 07-04-19\n\n\n\nABOUT THE MISSION: \nThe Patriot Guard Riders have been requested to stand a flag line and participate in the W Jordan Western Stampede Rodeo\, at the Rodeo grounds\, 8035 S 2200 W\, W Jordan at 8:00 PM. PGR attire (e.g. vest\, PGR shirt\, PGR hat\, etc…) is requested so that we can be identified during our mission. No shorts\, tank tops or flip flops please as we will be handing out coins and bandanas to all Veterans in the audience. Attendance will be greatly appreciated as there is much to do in little time. Anyone attending in a cage and willing to transport flags please contact Brian Schiele at: 801-530-9569.\n\n\nPRIMARY STAGING DETAILS: 07-04-19 \nStaging Time: 6:15 PM\n \nCAL Ranch\n2735 W 7800 S\nW Jordan\, Utah\n\n\nRide Captain: \nBrian Schiele\n801-530-9569\n\n\nSpecial Instructions: \nKSU: 6:45 PM\nWeather: Sunny with a high of 88.\nPlease dress accordingly and keep yourself hydrated.\n\n\nFlags & Water:\nFlags will be provided\nLarge Bike Flags will NOT be needed.\nWater WILL NOT be provided\, please bring your own.\n\n\nSubmitted By: Dave Richardson \nPosition: Utah State Captain \n\nNote: You do not have to own/ride a motorcycle or be a veteran to join\, and membership is Free. The only requirement is RESPECT! To subscribe to receive mission notices\, log into the National Site and click on the Members tab at the top. Select the Subscribe to PGR Missions option.\n Print This Page
URL:https://www.patriotguard.org/mission/west-jordan-western-stampede-rodeo/
CATEGORIES:HOTH Mission
END:VEVENT
END:VCALENDAR