BEGIN:VCALENDAR
VERSION:2.0
PRODID:-//Patriot Guard Riders - ECPv5.6.0//NONSGML v1.0//EN
CALSCALE:GREGORIAN
METHOD:PUBLISH
X-WR-CALNAME:Patriot Guard Riders
X-ORIGINAL-URL:https://www.patriotguard.org
X-WR-CALDESC:Events for Patriot Guard Riders
BEGIN:VTIMEZONE
TZID:America/New_York
BEGIN:DAYLIGHT
TZOFFSETFROM:-0500
TZOFFSETTO:-0400
TZNAME:EDT
DTSTART:20160313T070000
END:DAYLIGHT
BEGIN:STANDARD
TZOFFSETFROM:-0400
TZOFFSETTO:-0500
TZNAME:EST
DTSTART:20161106T060000
END:STANDARD
END:VTIMEZONE
BEGIN:VEVENT
DTSTART;TZID=America/New_York:20160602T090000
DTEND;TZID=America/New_York:20160602T110000
DTSTAMP:20210513T154518
CREATED:20160602T130000Z
LAST-MODIFIED:20191201T145557Z
UID:411727-1464858000-1464865200@www.patriotguard.org
SUMMARY:Wes Carroll\, 93\, USAAC
DESCRIPTION:Wes Carroll\nWWII Army\nSlidell Louisiana\, 06-02-2016\n\n\nLt 1st Class Wes Carroll was with the Army Air Corps during WWII. Lt. Carroll was shot down during WWII and eluded capture receiving the Silver Star\, Purple Heart and the Flying Medal.  Lt. Carroll was 93 yrs young. \nPRIMARY STAGING INFO – 06-02-2016: \n  Location:\nSt Margret Mary Church\n1050 Robert Blvd\nSlidell Louisiana \n Staging Time:\n10:30 A.M. \n  Special Instructions:\nWe will assemble at the church at 10:30 am to place flags out. Visitation will be from 11:00 am till 1:30 pm.  Mass will start at 2:00 pm. Interment will be in Greenwood Cemetery in old town Slidell in the family plot. \nRCIC:\nAlbert “Bamm Bamm” Davis Jr. – bammbamm256@yahoo.com \n  Assisting RCs:\n\n    Flags will be provided.\nLarge bike flags will be needed. \nWeather: \nchance of rain
URL:https://www.patriotguard.org/mission/wes-carroll-93-usaac/
CATEGORIES:Archive
END:VEVENT
END:VCALENDAR