BEGIN:VCALENDAR
VERSION:2.0
PRODID:-//Patriot Guard Riders - ECPv5.3.2.1//NONSGML v1.0//EN
CALSCALE:GREGORIAN
METHOD:PUBLISH
X-WR-CALNAME:Patriot Guard Riders
X-ORIGINAL-URL:https://www.patriotguard.org
X-WR-CALDESC:Events for Patriot Guard Riders
BEGIN:VTIMEZONE
TZID:America/New_York
BEGIN:DAYLIGHT
TZOFFSETFROM:-0500
TZOFFSETTO:-0400
TZNAME:EDT
DTSTART:20190310T070000
END:DAYLIGHT
BEGIN:STANDARD
TZOFFSETFROM:-0400
TZOFFSETTO:-0500
TZNAME:EST
DTSTART:20191103T060000
END:STANDARD
END:VTIMEZONE
BEGIN:VEVENT
DTSTART;VALUE=DATE:20190926
DTEND;VALUE=DATE:20190927
DTSTAMP:20210401T141143
CREATED:20190925T034244Z
LAST-MODIFIED:20190925T034244Z
UID:176572-1569456000-1569542399@www.patriotguard.org
SUMMARY:Welcome MOH Hershel Woody Williams
DESCRIPTION:HOTH Mission\nWelcome MOH Hershel Woody Williams\n– WWII\nLittle Rock\, Arkansas – 09-26-19\n\n\n\nABOUT THE MISSION: \nPlease join us in welcoming Medal of Honor recipient Hershel “Woody” Williams arrival to the Little Rock Airport. Woody will be here as a guest speaker for the Gold Star Families Monument Dedication Ceremony at the State Capital on Saturday the 28th at 11am. Seventy-four years ago\, Hershel “Woody” Williams was awarded the Medal of Honor for his courageous actions in the Battle of Iwo Jima.\n\n\nPRIMARY STAGING DETAILS: 09-26-19 \nStaging Time: 11:45 AM\n \nLittle Rock National Airport\, West side of Baggage claim below escalators.\n1 Airport Dr\nLittle Rock\, Arkansas 72202\nMap\n\n\nRide Captain: \nRandy “MUDD” Crownover\n501-993-2517\nRandycrownover@hotmail.com\n\n\nSpecial Instructions: \nBriefing: 1215pm\nFlagline: 1230pm\nFlagline only\nCages welcome.\n\n\nFlags & Water:\nFlags will be provided\nLarge Bike Flags will NOT be needed.\nWater WILL NOT be provided\, please bring your own.\n\n\n\nSubmitted By: Rick Schrunk \nPosition: Arkansas Ride/Hoth Captain \n\nNote: You do not have to own/ride a motorcycle or be a veteran to join\, and membership is Free. The only requirement is RESPECT! To subscribe to receive mission notices\, log into the National Site and click on the Members tab at the top. Select the Subscribe to PGR Missions option.\n Print This Page
URL:https://www.patriotguard.org/mission/welcome-moh-hershel-woody-williams/
CATEGORIES:HOTH Mission
END:VEVENT
END:VCALENDAR