BEGIN:VCALENDAR
VERSION:2.0
PRODID:-//Patriot Guard Riders - ECPv5.3.2.1//NONSGML v1.0//EN
CALSCALE:GREGORIAN
METHOD:PUBLISH
X-WR-CALNAME:Patriot Guard Riders
X-ORIGINAL-URL:https://www.patriotguard.org
X-WR-CALDESC:Events for Patriot Guard Riders
BEGIN:VTIMEZONE
TZID:America/New_York
BEGIN:DAYLIGHT
TZOFFSETFROM:-0500
TZOFFSETTO:-0400
TZNAME:EDT
DTSTART:20120311T070000
END:DAYLIGHT
BEGIN:STANDARD
TZOFFSETFROM:-0400
TZOFFSETTO:-0500
TZNAME:EST
DTSTART:20121104T060000
END:STANDARD
END:VTIMEZONE
BEGIN:VEVENT
DTSTART;TZID=America/New_York:20121217T090000
DTEND;TZID=America/New_York:20121217T110000
DTSTAMP:20210401T182609
CREATED:20121217T140000Z
LAST-MODIFIED:20191201T093104Z
UID:300546-1355734800-1355742000@www.patriotguard.org
SUMMARY:Welcome Home - Theodore Windus\, MNANG
DESCRIPTION:Welcome Home: Theodore Windus\, Monday 12-17-12 Duluth \nWe have been invited by Janet Windus to welcome her husband Theodore Windus home from serving a 6 month deployment in the Mediterranean.\nThe flight should arrive Monday evening at the Duluth Airport. \nParking : Please park in the “long Term Parking ” lot  Bring tickets in with you.\nStage : 9:45 pm  Main Entrance \, Just in case flight is early. \nRCIC: Bill and Dawn \nBring your 3×5 flag and pole\, water\, and everything youn need to be self sufficient.  Dress for the weather\, this will be a rain (snow) or shine mission.  Check the Mission Calendar for updates prior to leaving for this or any mission. \nBill & Dawn Midbrod\nDuluth Sector RC’s\n(218)220-0413\nduluthrc@mnpatriotguard.org
URL:https://www.patriotguard.org/mission/welcome-home-theodore-windus-mnang/
END:VEVENT
END:VCALENDAR