BEGIN:VCALENDAR
VERSION:2.0
PRODID:-//Patriot Guard Riders - ECPv5.3.2.1//NONSGML v1.0//EN
CALSCALE:GREGORIAN
METHOD:PUBLISH
X-WR-CALNAME:Patriot Guard Riders
X-ORIGINAL-URL:https://www.patriotguard.org
X-WR-CALDESC:Events for Patriot Guard Riders
BEGIN:VTIMEZONE
TZID:America/New_York
BEGIN:DAYLIGHT
TZOFFSETFROM:-0500
TZOFFSETTO:-0400
TZNAME:EDT
DTSTART:20190310T070000
END:DAYLIGHT
BEGIN:STANDARD
TZOFFSETFROM:-0400
TZOFFSETTO:-0500
TZNAME:EST
DTSTART:20191103T060000
END:STANDARD
END:VTIMEZONE
BEGIN:VEVENT
DTSTART;VALUE=DATE:20190210
DTEND;VALUE=DATE:20190211
DTSTAMP:20210403T011158
CREATED:20190209T024016Z
LAST-MODIFIED:20190209T024120Z
UID:149772-1549756800-1549843199@www.patriotguard.org
SUMMARY:Welcome Home Returning Local Troops
DESCRIPTION:Welcome Home\nWelcome Home Returning Local Troops\, Active Duty\nUSA –\nFort Bragg\, North Carolina – 02-10-19\n\n\n\n\nABOUT THE MISSION: \nWe have been invited to attend a Homecoming ceremony for troops who will be returning home after successful deployments. If you plan to attend\, please try to arrive early for this event as a large crowd is expected and parking will be limited. Please be flexible with regards to these missions as aircraft arrival times change frequently. Anyone who does not hold a DOD ID card must access post from the All American Freeway Visitor Control Center and obtain a pass. Remember to allow extra time for check in and that vehicle and persons are subject to search. You will be entering a US military installation so anything that could be considered a weapon should be left at home. If you are riding\, please keep in mind the requirements for documentation and proper PPE; license with motorcycle endorsement\, insurance\, registration\, and DOT approved helmet\, eye protection\, long sleeves\, full fingered gloves\, long pants\, over the ankle boots. Please check gate times prior to entry on the facility as they are constantly changing. We will establish a flag line and show our support for our returning Heroes and their families.\n\n\nPRIMARY STAGING DETAILS: 02-10-19 \nStaging Time: 02:30 PM  \nPax Shed #1 at the Green Ramp\nPope Army Air Field which is located on New Hurst Drive.\nFort Bragg\, North Carolina 28307\n\n\nRide Captain: \nE. Glenn (DocB) Butler\nNCPGR Sandhills ASC\ngbutret@aol.com301-275-6676\n\n\nSpecial Instructions: \n\n\nFlags & Water:\nFlags will be provided\nLarge Bike Flags will NOT be needed.\nWater WILL NOT be provided\, please bring your own.\n\n\n\nSubmitted By: Glenn Butler \nPosition: North Carolina Assistant State Captain \n\nNote: You do not have to own/ride a motorcycle or be a veteran to join\, and membership is Free. The only requirement is RESPECT! To subscribe to receive mission notices\, log into the National Site and click on the Members tab at the top. Select the Subscribe to PGR Missions option.\n Print This Page
URL:https://www.patriotguard.org/mission/welcome-home-returning-local-troops-2/
CATEGORIES:Welcome Home
END:VEVENT
END:VCALENDAR