BEGIN:VCALENDAR
VERSION:2.0
PRODID:-//Patriot Guard Riders - ECPv5.6.0//NONSGML v1.0//EN
CALSCALE:GREGORIAN
METHOD:PUBLISH
X-WR-CALNAME:Patriot Guard Riders
X-ORIGINAL-URL:https://www.patriotguard.org
X-WR-CALDESC:Events for Patriot Guard Riders
BEGIN:VTIMEZONE
TZID:America/New_York
BEGIN:DAYLIGHT
TZOFFSETFROM:-0500
TZOFFSETTO:-0400
TZNAME:EDT
DTSTART:20160313T070000
END:DAYLIGHT
BEGIN:STANDARD
TZOFFSETFROM:-0400
TZOFFSETTO:-0500
TZNAME:EST
DTSTART:20161106T060000
END:STANDARD
END:VTIMEZONE
BEGIN:VEVENT
DTSTART;TZID=America/New_York:20160804T090000
DTEND;TZID=America/New_York:20160804T110000
DTSTAMP:20210512T011417
CREATED:20160804T130000Z
LAST-MODIFIED:20191201T153950Z
UID:415595-1470301200-1470308400@www.patriotguard.org
SUMMARY:Welcome Home - Local Troops / Hebron\, KY
DESCRIPTION:updated 02 AUG 16 @ 4:46 p.m. CDT   ajbuechel \n\nPlease note that due to ongoing OPSEC/PERSEC concerns\, mission details are not shown in this posting. All relevant details about the Heroes will be given at the mission briefing.\n\n \n\nWELCOME HOME CEREMONY \n\n \nHonor Escort Staging Location:\nSouth Terminal\n2042 South Tower Drive\nHebron\, KY 41048\nStaging: 4 Aug 2016 @ 0400 hrs. – (4:00 AM) \nWelcome Home Celebration:\nFranklin High School\n750 E 4th Street\nFranklin\, OH  45005\nStart of Ceremony: 4 Aug 2016 @ 0730hrs-(7:30 AM)\nStaging: 4 Aug 2016 @ 0630 hrs. – (6:30 AM) if not riding with Escort \nPLEASE NOTE: The Arrival Time has changed from 11 PM Wed. to 5 AM Thursday.\n\nEscort from CVG to Franklin High School. \nDistrict #7 Ride Captain Bud Zartman is assigned this Welcome Home mission. Please follow his instructions. Dress per the weather conditions. If we are experiencing inclement weather err on the side of caution. Use your own judgment on how you get safely to and from the mission. If you need to contact Bud\, email him at:  justcallmebud@woh.rr.com \n\n\n********************************** \nPlease note that due to ongoing OPSEC/PERSEC concerns\, mission details are not shown in this posting. All relevant details about the Heroes will be given at the mission briefing. \n\n\n \n\nWELCOME HOME CEREMONY \nMiddletown\, Ohio\n\n\nStaging Location:\nSouth Terminal\n2042 South Tower Drive\nHebron\, KY 41048\nStaging: 3 Aug 2016 @ 2200 hrs. – (10:00 PM) \nWelcome Home Celebration Venue:\nMiddletown Armory\n2002 S. Main Street\nMiddletown\, OH 45044\nStart of Ceremony: 3 Aug 2016 @ 0000hrs-(Midnight)\nStaging: 3 Aug 2016 @ 2330hrs – (11:30 PM) if not riding with Escort \nPLEASE NOTE: At this time (Tuesday morning)\, we are not sure whether or not  they  are going to Have their Welcome Home Ceremony on the tarmac at CVG or at the Armory in Middletown.  At this point it looks like the Armory\, but that can change. \nDistrict #7 Ride Captain Bud Zartman is assigned this Welcome Home mission. Please follow his instructions. Dress per the weather conditions. If we are experiencing inclement weather err on the side of caution.  Use your own judgment on how you get safely to and from the mission. If you need to contact Bud\, email him at:  justcallmebud@woh.rr.com.
URL:https://www.patriotguard.org/mission/welcome-home-local-troops-hebron-ky/
CATEGORIES:Archive
END:VEVENT
END:VCALENDAR