BEGIN:VCALENDAR
VERSION:2.0
PRODID:-//Patriot Guard Riders - ECPv5.3.2.1//NONSGML v1.0//EN
CALSCALE:GREGORIAN
METHOD:PUBLISH
X-WR-CALNAME:Patriot Guard Riders
X-ORIGINAL-URL:https://www.patriotguard.org
X-WR-CALDESC:Events for Patriot Guard Riders
BEGIN:VTIMEZONE
TZID:America/New_York
BEGIN:DAYLIGHT
TZOFFSETFROM:-0500
TZOFFSETTO:-0400
TZNAME:EDT
DTSTART:20170312T070000
END:DAYLIGHT
BEGIN:STANDARD
TZOFFSETFROM:-0400
TZOFFSETTO:-0500
TZNAME:EST
DTSTART:20171105T060000
END:STANDARD
END:VTIMEZONE
BEGIN:VEVENT
DTSTART;TZID=America/New_York:20170401T171500
DTEND;TZID=America/New_York:20170401T191500
DTSTAMP:20210404T194856
CREATED:20170401T211500Z
LAST-MODIFIED:20191201T032854Z
UID:331793-1491066900-1491074100@www.patriotguard.org
SUMMARY:Welcome Home\, Local Hero
DESCRIPTION:Welcome Home\, Local Hero \nSt. Louis\, Missouri – 01 Apr 2017\n\n[HR][/HR]\nPlease note that due to ongoing OPSEC/PERSEC concerns\, mission details are not shown in this posting. All relevant details about the Hero will be given at the mission briefing.  \nABOUT THE MISSION: \nThe Patriot Guard will have the honor of welcoming home a hero from a extended tour of duty where he will enjoy a short leave with his parents before returning to duty. \nPRIMARY STAGING DETAILS: 01 Apr 2017 \n \nPrimary Staging Time: 5.15 P.M.\n\nCell Phone Lot 1\n10985 Lambert International Blvd. (By Cyprus)\n\nSt. Louis\, Missouri – 63044\n\n\n\n \nRide Captain:\n\nRobert Smith bobsmithesq4@gmail.com \nFlag Support Wolfman Reinbold\n\n \n\nSpecial Instructions:\n\nAfter Ride meeting we will process to Terminal 1 to greet our hero. Partial or full escort will be voluntary. (estimated 100 miles)\n\n \nFlags & Water:\n\nFlags Will Be Provided\n\nIf you have large bike flags\, please bring them.\n\nWater WILL NOT be provided\, please bring your own.\n\n\nSubmitted By: Robert Smith\nPosition: Ride Captain \n[HR][/HR]\nNote:\nYou do not have to own/ride a motorcycle or be a Veteran to join and membership is Free. The only requirement is RESPECT! To join\, simply go to Patriot Guard website and click on Register. Membership is Free. \nTo subscribe to receive mission notices\, log into the National Site and click on the Mission Tab at the top. Select Upcoming Missions by State. Scroll to the state(s) you would like to receive notices for and click on the green check mark. Detailed instructions are also located in the FAQs on the site by clicking on the Quick Links Tab and selecting FAQs.
URL:https://www.patriotguard.org/mission/welcome-home-local-hero/
END:VEVENT
END:VCALENDAR