BEGIN:VCALENDAR
VERSION:2.0
PRODID:-//Patriot Guard Riders - ECPv5.6.0//NONSGML v1.0//EN
CALSCALE:GREGORIAN
METHOD:PUBLISH
X-WR-CALNAME:Patriot Guard Riders
X-ORIGINAL-URL:https://www.patriotguard.org
X-WR-CALDESC:Events for Patriot Guard Riders
BEGIN:VTIMEZONE
TZID:America/New_York
BEGIN:DAYLIGHT
TZOFFSETFROM:-0500
TZOFFSETTO:-0400
TZNAME:EDT
DTSTART:20160313T070000
END:DAYLIGHT
BEGIN:STANDARD
TZOFFSETFROM:-0400
TZOFFSETTO:-0500
TZNAME:EST
DTSTART:20161106T060000
END:STANDARD
END:VTIMEZONE
BEGIN:VEVENT
DTSTART;TZID=America/New_York:20160612T090000
DTEND;TZID=America/New_York:20160612T110000
DTSTAMP:20210513T160813
CREATED:20160612T130000Z
LAST-MODIFIED:20191201T153958Z
UID:415608-1465722000-1465729200@www.patriotguard.org
SUMMARY:Welcome Home - Joseph Soehnlein
DESCRIPTION:Welcome Home\n\n\n \n\n\nUSMC LCPL Joseph Soehnlein\n\n\n \n\nMadison\, WI\nSunday\, June 12\, 2016\n\n \n\n\n\n\nLCPL Joseph Soehnlein will be coming                   home for good on Sunday\, June 12. He has completed his                   4 year service with the US Marine Corps and will be                   returning through Chicago to Madison.  His family will                   be bringing him home and it would be wonderful to show                   him a hero’s welcome home. Of course\, he says he was                   just doing his duty and it “No big deal” but for those                   of you who have had family in the service you know it                   IS a big deal. \nThese are great events and something                   we can celebrate\, it’s good for the soul.  Per PGR Policy                   we cannot escort an individual but we will establish a                   flag line and line the streets to let the neighborhood                   know that Joe is home.\n\nWe have been invited to stay for the                   celebration and get to know Joe. \nStaging will be in the                   cul-de-sac of Topaz Lane north of Martha Lane on the                   East side of Madison\, WI.  I will then lead the group to the                   final location.   \nStaging \n6:00                     p.m.\n\nRide                   Captain is John Curran jcurran516@aol.com
URL:https://www.patriotguard.org/mission/welcome-home-joseph-soehnlein/
CATEGORIES:Archive
END:VEVENT
END:VCALENDAR