BEGIN:VCALENDAR
VERSION:2.0
PRODID:-//Patriot Guard Riders - ECPv5.3.2.1//NONSGML v1.0//EN
CALSCALE:GREGORIAN
METHOD:PUBLISH
X-WR-CALNAME:Patriot Guard Riders
X-ORIGINAL-URL:https://www.patriotguard.org
X-WR-CALDESC:Events for Patriot Guard Riders
BEGIN:VTIMEZONE
TZID:America/New_York
BEGIN:DAYLIGHT
TZOFFSETFROM:-0500
TZOFFSETTO:-0400
TZNAME:EDT
DTSTART:20190310T070000
END:DAYLIGHT
BEGIN:STANDARD
TZOFFSETFROM:-0400
TZOFFSETTO:-0500
TZNAME:EST
DTSTART:20191103T060000
END:STANDARD
END:VTIMEZONE
BEGIN:VEVENT
DTSTART;VALUE=DATE:20190907
DTEND;VALUE=DATE:20190908
DTSTAMP:20210401T085204
CREATED:20190903T020034Z
LAST-MODIFIED:20190903T020034Z
UID:172198-1567814400-1567900799@www.patriotguard.org
SUMMARY:Welcome Home Ceremony
DESCRIPTION:Welcome Home\nWelcome Home Ceremony\nANG – WoT\nPrescott\, Arizona – 09-07-19\n\n\n\nABOUT THE MISSION: \nOn Saturday\, Sept. 7\, Yavapai County and the City of Prescott will welcome home Arizona National Guard Citizen-Soldiers\, who were deployed in support of overseas-contingency operations from June 2018 to May 2019. The “Bushmasters” became the First Arizona Infantry in 1877\, tasked to provide security to the citizens of the territory that would become the State of Arizona in 1912. The PGR is honored to provide an escort of our heroes from the Prescott National Guard Armory to downtown Prescott\, and then to stand a flag line for their welcome home Ceremony.\n\n\nPRIMARY STAGING DETAILS: 09-07-19 \nStaging Time: 08:45 AM\n \nPrescott National Guard Armory\n1500 Heritage Park Rd.\nPrescott\, Arizona 86301\nMap\n\n\nRide Captain: \nJohn Moffitt\nprescottbikers@hotmail.com\n928-713-0856\n\n\nSpecial Instructions: \n9:15 AM – Road Guard Briefing\n9:30 AM – Briefing for Riders and procession & Circle of Honor\n9:40 AM- KSU to American Legion Post 6 (202 S. Pleasant St.)\nTwo buses carrying our heroes will drop them off at American Legion Post 6. After that the buses will park in the parking lot of the old First Baptist Church (entry is from the north side of Goodwin Street between Cortez Street and Marina Street). After the buses have parked\, PGR motorcycles can also park in the Church parking lot.\n\n\nFlags & Water:\nFlags will not be provided\nIf you have large bike flags\, please bring them.\nWater WILL NOT be provided\, please bring your own.\n\nSTAGING #2 DETAILS: 09-07-19 \nStaging Time: 10:45 AM\n \nYavapai County Courthouse (north side)\nAdjacent to Gurley Street\nPrescott\, Arizona 86301\n\n\nRide Captain: \nJohn Moffitt\nprescottbikers@hotmail.com\n928-713-0856\n\n\nSpecial Instructions: \n11:00 AM – Briefing\n11:15 AM – Flag Line\nThe flag line will remain up until Charlie Company and the American Legion Post 6 Honor Guard have passed through the flag line and entered the Courthouse Plaza. After the Flag Line is dismissed\, the PGR is invited to remain for the Welcome Home ceremonies on the Courthouse Plaza.\nFLAG CAPTAIN: Mike Ammons.\nPGR Motorcycle parking will be available in the parking lot of the old First Baptist Church (entry is from the north side of Goodwin Street between Cortez Street and Marina Street).\n\n\nFlags & Water:\nFlags will be provided\nLarge Bike Flags will NOT be needed.\nWater will be provided.\n\n\n\nSubmitted By: John Moffitt \nPosition: Arizona Assistant State Captain \n\nNote: You do not have to own/ride a motorcycle or be a veteran to join\, and membership is Free. The only requirement is RESPECT! To subscribe to receive mission notices\, log into the National Site and click on the Members tab at the top. Select the Subscribe to PGR Missions option.\n Print This Page
URL:https://www.patriotguard.org/mission/welcome-home-ceremony/
CATEGORIES:Welcome Home
END:VEVENT
END:VCALENDAR