BEGIN:VCALENDAR
VERSION:2.0
PRODID:-//Patriot Guard Riders - ECPv5.3.2.1//NONSGML v1.0//EN
CALSCALE:GREGORIAN
METHOD:PUBLISH
X-WR-CALNAME:Patriot Guard Riders
X-ORIGINAL-URL:https://www.patriotguard.org
X-WR-CALDESC:Events for Patriot Guard Riders
BEGIN:VTIMEZONE
TZID:America/New_York
BEGIN:DAYLIGHT
TZOFFSETFROM:-0500
TZOFFSETTO:-0400
TZNAME:EDT
DTSTART:20160313T070000
END:DAYLIGHT
BEGIN:STANDARD
TZOFFSETFROM:-0400
TZOFFSETTO:-0500
TZNAME:EST
DTSTART:20161106T060000
END:STANDARD
END:VTIMEZONE
BEGIN:VEVENT
DTSTART;TZID=America/New_York:20160427T090000
DTEND;TZID=America/New_York:20160427T110000
DTSTAMP:20210406T013831
CREATED:20160427T130000Z
LAST-MODIFIED:20191201T154014Z
UID:415633-1461747600-1461754800@www.patriotguard.org
SUMMARY:Welcome Home
DESCRIPTION:Patriot Guard and Associates\, \nWe are Honored to have been invited by Major General Thaddeus J. Martin\, The Adjutant General of Connecticut National Guard\, to attend the Formal Welcome Home and Freedom Salute Ceremony in Honor of the 192nd Military Police Battalion and the 143rd Regional Support Group\, Connecticut Army National Guard\, in recognition of their recent deployments in support of Joint Task Force Guantanamo and NATO’s Resolute Support. \nThe Ceremony will be held at 1630 hrs (4:30 pm)\, Wednesday\, 27 April 2016 at the Gov. William A. O’Neill Armory Drill Shed Floor. \nWe will stand a Flag Line at the Ceremony. \nAssistant State Captain Skip Petras will be RCIC and Flags will be on site \nSTAGE: 1530 HRS (3:30 PM)\, Wednesday\, 27 April 2016 \nGov. William A. O’Neill Armory\n60 Broad Street\nHartford\, CT 06105 \nAs a reminder\, parking is limited in the area and early arrival is recommended. You should use the LOB Garage if possible. Also\, for security reasons\, no personal weapons are permitted in the Armory. \nGod Bless America\, Our Troops and First Responders. \nContact:\nMAC MCARTHUR\nSTATE CAPTAIN\nhaddamac@gmail.com\nCell:860-682-7625\nFax: 860-345-3654
URL:https://www.patriotguard.org/mission/welcome-home-482/
CATEGORIES:Archive
END:VEVENT
END:VCALENDAR