BEGIN:VCALENDAR
VERSION:2.0
PRODID:-//Patriot Guard Riders - ECPv5.6.0//NONSGML v1.0//EN
CALSCALE:GREGORIAN
METHOD:PUBLISH
X-WR-CALNAME:Patriot Guard Riders
X-ORIGINAL-URL:https://www.patriotguard.org
X-WR-CALDESC:Events for Patriot Guard Riders
BEGIN:VTIMEZONE
TZID:America/New_York
BEGIN:DAYLIGHT
TZOFFSETFROM:-0500
TZOFFSETTO:-0400
TZNAME:EDT
DTSTART:20160313T070000
END:DAYLIGHT
BEGIN:STANDARD
TZOFFSETFROM:-0400
TZOFFSETTO:-0500
TZNAME:EST
DTSTART:20161106T060000
END:STANDARD
END:VTIMEZONE
BEGIN:VEVENT
DTSTART;TZID=America/New_York:20160625T090000
DTEND;TZID=America/New_York:20160625T110000
DTSTAMP:20210513T144850
CREATED:20160625T130000Z
LAST-MODIFIED:20191201T153958Z
UID:415607-1466845200-1466852400@www.patriotguard.org
SUMMARY:Welcome Home
DESCRIPTION:The Patriot Guard Riders have been invited by the family of US Army SPC Shawn Jenkins to join them when they welcome him home.  The PGR will be honored to do so.  SPC Jenkins is returning home from foreign deployment for some well-deserved time with his family before returning to his regular assigned duties stateside. \nMISSION DETAILS:\nSaturday\, 25 June 2016\n1425 hrs—STAGE at Terminal \, Sacramento International Airport (SMF)\n1435 hrs—MISSION BRIEFING\nFLAG LINE will be formed in the usual manner to await our hero’s arrival. \nRC:  Rudy Herrera\, 408-219-9992 \nThis mission involves an aircraft arrival.  Arrival times can and do change.  Please check the mission thread for last minute changes/updates before departing for the airport.  Any changes will be posted as soon as they are known to us. \nSUGGEST PARKING AT THE FREE CURBSIDE AREA ON LINDBERGH DRIVE.\n(Note: A shuttle is available at this location but no longer delivers to both terminals.  It drops off at a central location where you must walk a short distance to the terminals and walk back to the central location to catch the shuttle return to the free parking location) \nDIRECTIONS TO FREE PARKING AREA:  Upon arrival at the airport take the 2nd exit off Airport Blvd. marked “Economy Lot Parking”\, circle back over the overpass (Crossfield Dr.) and bear to the right onto Lindbergh Dr.  Continue on Lindbergh Dr. to the cargo terminal turnoff\, make a U turn and park along the curb on Lindbergh Dr. \nMap link:  http://tinyurl.com/6rn3cx5 \nYou do not have to be a Veteran or a motorcycle rider to attend this mission.  Everyone is welcome. If you do not ride you are encouraged to attend in your car.  If this will be your first mission go to the staging area and you will be briefed there.
URL:https://www.patriotguard.org/mission/welcome-home-461/
CATEGORIES:Archive
END:VEVENT
END:VCALENDAR