BEGIN:VCALENDAR
VERSION:2.0
PRODID:-//Patriot Guard Riders - ECPv5.6.0//NONSGML v1.0//EN
CALSCALE:GREGORIAN
METHOD:PUBLISH
X-WR-CALNAME:Patriot Guard Riders
X-ORIGINAL-URL:https://www.patriotguard.org
X-WR-CALDESC:Events for Patriot Guard Riders
BEGIN:VTIMEZONE
TZID:America/New_York
BEGIN:DAYLIGHT
TZOFFSETFROM:-0500
TZOFFSETTO:-0400
TZNAME:EDT
DTSTART:20160313T070000
END:DAYLIGHT
BEGIN:STANDARD
TZOFFSETFROM:-0400
TZOFFSETTO:-0500
TZNAME:EST
DTSTART:20161106T060000
END:STANDARD
END:VTIMEZONE
BEGIN:VEVENT
DTSTART;TZID=America/New_York:20160729T090000
DTEND;TZID=America/New_York:20160729T110000
DTSTAMP:20210512T233354
CREATED:20160729T130000Z
LAST-MODIFIED:20191201T153952Z
UID:415598-1469782800-1469790000@www.patriotguard.org
SUMMARY:Welcome Home
DESCRIPTION:The Patriot Guard Riders have been invited to join the family of a local hero as they welcome him home from foreign deployment.  The PGR are honored to do. \nMISSION DETAILS:\nFriday\, 29 July 2016\n2300 hrs—STAGE at Terminal B\, Sacramento International Airport (SMF)\n2310 hrs—MISSION BRIEFING\nFLAG LINE will be formed in the usual manner to await our hero’s arrival.   \nRC:  TBD\nContact Mickey at 916-872-7551 with questions/comments. \nThis mission involves an aircraft arrival.  Arrival times can and do change.  Please check the mission thread for last minute changes/updates before departing for the airport.  Any changes will be posted as soon as they are known to us. \nSUGGEST PARKING AT THE FREE CURBSIDE AREA ON LINDBERGH DRIVE.\n(Note: A shuttle is available at this location but no longer delivers to both terminals.  It drops of at a central location where you must walk a short distance to the terminals and walk back to the central location to catch the shuttle return to the free parking location)\n\nDIRECTIONS TO FREE PARKING AREA:  Upon arrival at the airport take the 2nd exit off Airport Blvd. marked “Economy Lot Parking”\, circle back over the overpass (Crossfield Dr.) and bear to the right onto Lindbergh Dr.  Continue on Lindbergh Dr. to the cargo terminal turnoff\, make a U turn and park along the curb on Lindbergh Dr.\n\nMap link:  http://tinyurl.com/6rn3cx5 \nYou do not have to be a Veteran or a motorcycle rider to attend this mission.  Everyone is welcome. If you do not ride you are encouraged to attend in your car.  If this will be your first mission go to the staging area and you will be briefed there.
URL:https://www.patriotguard.org/mission/welcome-home-453/
CATEGORIES:Archive
END:VEVENT
END:VCALENDAR