BEGIN:VCALENDAR
VERSION:2.0
PRODID:-//Patriot Guard Riders - ECPv5.6.0//NONSGML v1.0//EN
CALSCALE:GREGORIAN
METHOD:PUBLISH
X-WR-CALNAME:Patriot Guard Riders
X-ORIGINAL-URL:https://www.patriotguard.org
X-WR-CALDESC:Events for Patriot Guard Riders
BEGIN:VTIMEZONE
TZID:America/New_York
BEGIN:DAYLIGHT
TZOFFSETFROM:-0500
TZOFFSETTO:-0400
TZNAME:EDT
DTSTART:20160313T070000
END:DAYLIGHT
BEGIN:STANDARD
TZOFFSETFROM:-0400
TZOFFSETTO:-0500
TZNAME:EST
DTSTART:20161106T060000
END:STANDARD
END:VTIMEZONE
BEGIN:VEVENT
DTSTART;TZID=America/New_York:20160826T090000
DTEND;TZID=America/New_York:20160826T110000
DTSTAMP:20210512T022004
CREATED:20160826T130000Z
LAST-MODIFIED:20191201T153947Z
UID:415591-1472202000-1472209200@www.patriotguard.org
SUMMARY:Welcome Home
DESCRIPTION:Please note that due to ongoing OPSEC/PERSEC concerns\, mission details are not shown in this posting. All relevant details about the Hero will be given at the mission briefing.\n\nThe Patriot Guard Riders have been invited by the family to greet a local hero upon his arrival at MBS International Airport. Please join us to give this young American soldier a great welcome home\, feel free to bring family\, friends\, and acquaintances. \n\nMission Type: Welcome Home \nFriday\, August 26\, 2016 \nLocation:\nMBS International Airport\n9200 Garfield Road\nFreeland\, MI. 48623 \nStage: 8:35 AM\nBrief:   9:05 AM\nFlag Line 9:15 AM (Approximate) \nPARKING:\nMBS has graciously allowed us free parking. You MUST bring your ticket to the Ride Captain who will stamp it for complimentary parking.  Park in the short term lot near the airport complex.\n\nRC: John and Diane Mulvaney\n      [URL=”tel:989%20295%204419″]989 295 4419[/URL]
URL:https://www.patriotguard.org/mission/welcome-home-447/
CATEGORIES:Archive
END:VEVENT
END:VCALENDAR