BEGIN:VCALENDAR
VERSION:2.0
PRODID:-//Patriot Guard Riders - ECPv5.6.0//NONSGML v1.0//EN
CALSCALE:GREGORIAN
METHOD:PUBLISH
X-WR-CALNAME:Patriot Guard Riders
X-ORIGINAL-URL:https://www.patriotguard.org
X-WR-CALDESC:Events for Patriot Guard Riders
BEGIN:VTIMEZONE
TZID:America/New_York
BEGIN:DAYLIGHT
TZOFFSETFROM:-0500
TZOFFSETTO:-0400
TZNAME:EDT
DTSTART:20160313T070000
END:DAYLIGHT
BEGIN:STANDARD
TZOFFSETFROM:-0400
TZOFFSETTO:-0500
TZNAME:EST
DTSTART:20161106T060000
END:STANDARD
END:VTIMEZONE
BEGIN:VEVENT
DTSTART;TZID=America/New_York:20160827T090000
DTEND;TZID=America/New_York:20160827T110000
DTSTAMP:20210512T012526
CREATED:20160827T130000Z
LAST-MODIFIED:20191201T153944Z
UID:415587-1472288400-1472295600@www.patriotguard.org
SUMMARY:Welcome Home
DESCRIPTION:Please note that due to ongoing OPSEC/PERSEC concerns\, mission details are not shown in this posting. All relevant details about the Local Troops will be given at the mission briefing. \nThe Patriot Guard Riders have been requested to stand a flag line for a welcome home. \nThis will be a welcome home. The welcome home will be at the Salt Lake Armory on 1640 N 2200 W in Salt Lake City at 6:00 AM on Saturday\, August 27\, 2016. We will stand a flag line at the Armory to welcome the troops home. \nThe ride captain for this mission will be Keith Bennett and he can be reached at: 801-910-0595. \nStaging: 5:00 AM at\nSalt Lake Armory\n1640 N 2200 W\nSalt Lake City. \nKSU: 5:30 AM \nWeather: Sunny with a high of 88. Please dress accordingly and keep yourself hydrated. \nAnyone attending in a cage and willing to transport flags please contact Keith Bennett at: 801-910-0595.
URL:https://www.patriotguard.org/mission/welcome-home-444/
CATEGORIES:Archive
END:VEVENT
END:VCALENDAR