BEGIN:VCALENDAR
VERSION:2.0
PRODID:-//Patriot Guard Riders - ECPv5.3.2.1//NONSGML v1.0//EN
CALSCALE:GREGORIAN
METHOD:PUBLISH
X-WR-CALNAME:Patriot Guard Riders
X-ORIGINAL-URL:https://www.patriotguard.org
X-WR-CALDESC:Events for Patriot Guard Riders
BEGIN:VTIMEZONE
TZID:America/New_York
BEGIN:DAYLIGHT
TZOFFSETFROM:-0500
TZOFFSETTO:-0400
TZNAME:EDT
DTSTART:20140309T070000
END:DAYLIGHT
BEGIN:STANDARD
TZOFFSETFROM:-0400
TZOFFSETTO:-0500
TZNAME:EST
DTSTART:20141102T060000
END:STANDARD
END:VTIMEZONE
BEGIN:VEVENT
DTSTART;TZID=America/New_York:20140322T090000
DTEND;TZID=America/New_York:20140322T110000
DTSTAMP:20210401T164658
CREATED:20140322T130000Z
LAST-MODIFIED:20191201T135626Z
UID:406118-1395478800-1395486000@www.patriotguard.org
SUMMARY:Welcome Home
DESCRIPTION:I’m VERY happy to announce the return of  RI Army National Guard Unit SOD-G  coming in from their  DMOB to the open arms of their families and friends. The RI Patriot Guard Riders are proud to be among them to say Thank You. Please join us tomorrow\, Saturday 22 March\, 2014. \nDetails are AS NEEDED\, as usual with welcome homes that have not gone AP\, but our invite is received.  They will be arriving at the ANG Base. \nSTAGING:\nDunkin Donuts\nLocated at traffic light at intersection of Main St (117) and S. Main St  in front of Dave’s Marketplace\n24 Coventry Shoppers Park\nCoventry RI \nTIME:\nSaturday 22 March\, 2014\n10:45am  KSU 11am \nRC:\nBarbara “Wolfy” Dardeen \nFLAGS WILL BE ONSITE \nBarbara “Wolfy” Dardeen\nRhode Island State Captain
URL:https://www.patriotguard.org/mission/welcome-home-398/
CATEGORIES:Archive
END:VEVENT
END:VCALENDAR