BEGIN:VCALENDAR
VERSION:2.0
PRODID:-//Patriot Guard Riders - ECPv5.3.2.1//NONSGML v1.0//EN
CALSCALE:GREGORIAN
METHOD:PUBLISH
X-WR-CALNAME:Patriot Guard Riders
X-ORIGINAL-URL:https://www.patriotguard.org
X-WR-CALDESC:Events for Patriot Guard Riders
BEGIN:VTIMEZONE
TZID:America/New_York
BEGIN:DAYLIGHT
TZOFFSETFROM:-0500
TZOFFSETTO:-0400
TZNAME:EDT
DTSTART:20170312T070000
END:DAYLIGHT
BEGIN:STANDARD
TZOFFSETFROM:-0400
TZOFFSETTO:-0500
TZNAME:EST
DTSTART:20171105T060000
END:STANDARD
END:VTIMEZONE
BEGIN:VEVENT
DTSTART;TZID=America/New_York:20170406T163000
DTEND;TZID=America/New_York:20170406T183000
DTSTAMP:20210405T200053
CREATED:20170406T203000Z
LAST-MODIFIED:20191201T030451Z
UID:309337-1491496200-1491503400@www.patriotguard.org
SUMMARY:Welcome Home
DESCRIPTION:Operation Welcome Home  \nGilbert\, Arizona – 06 Apr 2017\n\n[HR][/HR]\nABOUT THE MISSION: \nPlease note that due to ongoing OPSEC/PERSEC concerns\, mission details are not shown in this posting. All relevant details about the Hero will be given at the mission briefing. PRIMARY STAGING DETAILS: 06 Apr 2017 \n \nPrimary Staging Time: 4:30 P.M.\n\nLifetime Fitness\n381 East Warner Rd\n\nGilbert\, Arizona – 85296\n\n\n\n \nRide Captain:\n\nThomas Atnip\nPhone Number: 480-309-2465\nEmail Address: Thomas.e.atnip@boeing.com \nFlag Support: TBD\n\n \n\nSpecial Instructions:\n\nBriefing @ 5:15 pm We will escort the Honoree to the Town of Gilbert\, Town Hall (on Call) Event will start at 5:30 pm\n\n \n\nFlags & Water:\n\nFlags Will Be Provided\n\nIf you have large bike flags\, please bring them.\n\nWater will be provided.\n\n\nSubmitted By: Tom Burns\nPosition: Assistant State Captain \n[HR][/HR]\nNote:\nYou do not have to own/ride a motorcycle or be a Veteran to join and membership is Free. The only requirement is RESPECT! To join\, simply go to Patriot Guard website and click on Register. Membership is Free. \nTo subscribe to receive mission notices\, log into the National Site and click on the Mission Tab at the top. Select Upcoming Missions by State. Scroll to the state(s) you would like to receive notices for and click on the green check mark. Detailed instructions are also located in the FAQs on the site by clicking on the Quick Links Tab and selecting FAQs.
URL:https://www.patriotguard.org/mission/welcome-home-35/
END:VEVENT
END:VCALENDAR