BEGIN:VCALENDAR
VERSION:2.0
PRODID:-//Patriot Guard Riders - ECPv5.6.0//NONSGML v1.0//EN
CALSCALE:GREGORIAN
METHOD:PUBLISH
X-WR-CALNAME:Patriot Guard Riders
X-ORIGINAL-URL:https://www.patriotguard.org
X-WR-CALDESC:Events for Patriot Guard Riders
BEGIN:VTIMEZONE
TZID:America/New_York
BEGIN:DAYLIGHT
TZOFFSETFROM:-0500
TZOFFSETTO:-0400
TZNAME:EDT
DTSTART:20150308T070000
END:DAYLIGHT
BEGIN:STANDARD
TZOFFSETFROM:-0400
TZOFFSETTO:-0500
TZNAME:EST
DTSTART:20151101T060000
END:STANDARD
END:VTIMEZONE
BEGIN:VEVENT
DTSTART;TZID=America/New_York:20150430T090000
DTEND;TZID=America/New_York:20150430T110000
DTSTAMP:20210512T085601
CREATED:20150430T130000Z
LAST-MODIFIED:20191201T135358Z
UID:405739-1430384400-1430391600@www.patriotguard.org
SUMMARY:Welcome Home
DESCRIPTION:Welcome Home/40th Anniversary end of Vietnam War Cedar Rapids\, Iowa\nApril 30\, 2015 \n\nThe  Patriot Guard Riders have been invited to participate in a ceremony  welcoming home ALL Vietnam Veterans on the 40th anniversary of the end  of the Vietnam War. \nDate/time: 12:00 PM\, Thursday \, April 30\, 2015 \nRally point: Veterans Memorial Building\n50 2nd Ave\nCedar Rapids\, Iowa 52401 \nhttps://goo.gl/maps/bHc98 \n\n***NOTE***   We will rally on the 2nd Ave bridge right in front of the Veterans  Memorial Building (designated parking area for PGR bikes) \n\nRally time: 10:15 AM \nMission Brief: 10:45 AM with flag line immediately after briefing \nRide Captain: \nScott Rathjens\nsdarath3@gmail.com\n[URL=”tel:%28319%29310-0347″](319)310-0347[/URL] \nPOSTED BY:\nScott Rathjens
URL:https://www.patriotguard.org/mission/welcome-home-278/
CATEGORIES:Archive
END:VEVENT
END:VCALENDAR