BEGIN:VCALENDAR
VERSION:2.0
PRODID:-//Patriot Guard Riders - ECPv5.3.2.1//NONSGML v1.0//EN
CALSCALE:GREGORIAN
METHOD:PUBLISH
X-WR-CALNAME:Patriot Guard Riders
X-ORIGINAL-URL:https://www.patriotguard.org
X-WR-CALDESC:Events for Patriot Guard Riders
BEGIN:VTIMEZONE
TZID:America/New_York
BEGIN:DAYLIGHT
TZOFFSETFROM:-0500
TZOFFSETTO:-0400
TZNAME:EDT
DTSTART:20190310T070000
END:DAYLIGHT
BEGIN:STANDARD
TZOFFSETFROM:-0400
TZOFFSETTO:-0500
TZNAME:EST
DTSTART:20191103T060000
END:STANDARD
END:VTIMEZONE
BEGIN:VEVENT
DTSTART;VALUE=DATE:20190808
DTEND;VALUE=DATE:20190809
DTSTAMP:20210402T153642
CREATED:20190806T154810Z
LAST-MODIFIED:20190806T154810Z
UID:169868-1565222400-1565308799@www.patriotguard.org
SUMMARY:Welcome Home 198th Regional Support Group
DESCRIPTION:Welcome Home\nWelcome Home 198th Regional Support Group\nUSAF \, ANG –\nPhoenix\, Arizona – 08-08-19\n\n\n\n\nABOUT THE MISSION: \nThe AZPGR has been invited to welcome home the 198th Regional Support Group by Colonel Gregory B. Hartvigsen\, Brigade Commander of the 98th Aviation Troop Command. He requests the pleasure of our company at the 198th RSG Welcome Home Ceremony. With honor and respect we accept this invitation and will set a flag line for family members arriving to welcome their family members and our troops home. The aircraft is due to arrive at 1:10 P.M. Our mission will be completed after the airmen deplane and enter the hangar.\n\n\nPRIMARY STAGING DETAILS: 08-08-19 \nStaging Time: 11:45 am \nSky Harbor International Airport – South side of the airport. Hangar #2 of the 161st Air Wing\, AZANG\n3200 E. Old Tower Road\,\nPhoenix\, Arizona 85034\n\nNote: When you enter the gates\, show your ID to the Airman at the post\, they will direct you to the Hangar. There will be signage pointing the way. Park south of the hangar and walk up to it and enter through the large garage doors. RC will be there to direct the way for the flag line.\nREMINDER: NO WEAPONS. \n\n\n\nRide Captain: \nDan Lazear\n480-223-8628\nazpgrdan@gmail.com\n\nFlag Captain: Karen Swanson\n\n\nSpecial Instructions: \nNote: When you enter the gates\, show your ID to the Airman at the post\, they will direct you to the Hangar. There will be signage pointing the way. Park south of the hangar and walk up to it and enter through the large garage doors. RC will be there to direct the way for the flag line.\nCircle of Honor: TBA\nFlag Line Set: 12:00 P.M.\nREMINDER: NO WEAPONS.\n\n\nFlags & Water:\nFlags will be provided\nIf you have large bike flags\, please bring them.\nWater will be provided.\n\nSubmitted By: Bill Wooster \nPosition: Arizona Assistant State Captain \n\nNote: You do not have to own/ride a motorcycle or be a veteran to join\, and membership is Free. The only requirement is RESPECT! To subscribe to receive mission notices\, log into the National Site and click on the Members tab at the top. Select the Subscribe to PGR Missions option.\n Print This Page
URL:https://www.patriotguard.org/mission/welcome-home-198th-regional-support-group/
CATEGORIES:Welcome Home
END:VEVENT
END:VCALENDAR