BEGIN:VCALENDAR
VERSION:2.0
PRODID:-//Patriot Guard Riders - ECPv5.3.2.1//NONSGML v1.0//EN
CALSCALE:GREGORIAN
METHOD:PUBLISH
X-WR-CALNAME:Patriot Guard Riders
X-ORIGINAL-URL:https://www.patriotguard.org
X-WR-CALDESC:Events for Patriot Guard Riders
BEGIN:VTIMEZONE
TZID:America/New_York
BEGIN:DAYLIGHT
TZOFFSETFROM:-0500
TZOFFSETTO:-0400
TZNAME:EDT
DTSTART:20190310T070000
END:DAYLIGHT
BEGIN:STANDARD
TZOFFSETFROM:-0400
TZOFFSETTO:-0500
TZNAME:EST
DTSTART:20191103T060000
END:STANDARD
END:VTIMEZONE
BEGIN:VEVENT
DTSTART;VALUE=DATE:20190610
DTEND;VALUE=DATE:20190611
DTSTAMP:20210405T124752
CREATED:20190609T165442Z
LAST-MODIFIED:20190609T165442Z
UID:164049-1560124800-1560211199@www.patriotguard.org
SUMMARY:Welcome Home
DESCRIPTION:Welcome Home\nWelcome Home\nWWII\nMorrisville\, North Carolina – 06-10-19\n\n\n\n\nABOUT THE MISSION: \nFellow Patriots\,We have been honored with an invitation to participate in a “Welcome Home” event for two local WWII Veterans who travelled to Normandy for the 75th Anniversary of D-Day ceremonies. While there\, one of the veterans received the French Legion of Honour Award. This will be a flag line only mission at Raleigh-Durham International Airport. PGR members attending will need to park in the parking deck and proceed to the USO Center in Terminal 2. Everyone will be responsible for their own parking fees. Please join us in honoring these great American heroes. It is anticipated that this will be well attended by the public and by the news media.\n\n\nPRIMARY STAGING DETAILS: 06-10-19 \nStaging Time: 1:45  pm \nRaleigh Durham Airport (USO Center Terminal 2)\n2400 John Brantley Blvd\nMorrisville\, North Carolina 27560\n\n\nRide Captain: \nRandy Bright\n919-616-4603\n\n\nSpecial Instructions: \nStaging: 1:45 PM Briefing: 2:15 PM Flag line: Upon the arrival of the flight at 2:56 PM. \n\n\nFlags & Water:\nFlags will be provided\nLarge Bike Flags will NOT be needed.\nWater WILL NOT be provided\, please bring your own.\n\n\n\nSubmitted By: Randy Bright \nPosition: North Carolina Ride Captain \n\nNote: You do not have to own/ride a motorcycle or be a veteran to join\, and membership is Free. The only requirement is RESPECT! To subscribe to receive mission notices\, log into the National Site and click on the Members tab at the top. Select the Subscribe to PGR Missions option.\n Print This Page
URL:https://www.patriotguard.org/mission/welcome-home-18/
CATEGORIES:Welcome Home
END:VEVENT
END:VCALENDAR