BEGIN:VCALENDAR
VERSION:2.0
PRODID:-//Patriot Guard Riders - ECPv5.3.2.1//NONSGML v1.0//EN
CALSCALE:GREGORIAN
METHOD:PUBLISH
X-WR-CALNAME:Patriot Guard Riders
X-ORIGINAL-URL:https://www.patriotguard.org
X-WR-CALDESC:Events for Patriot Guard Riders
BEGIN:VTIMEZONE
TZID:America/New_York
BEGIN:DAYLIGHT
TZOFFSETFROM:-0500
TZOFFSETTO:-0400
TZNAME:EDT
DTSTART:20090308T070000
END:DAYLIGHT
BEGIN:STANDARD
TZOFFSETFROM:-0400
TZOFFSETTO:-0500
TZNAME:EST
DTSTART:20091101T060000
END:STANDARD
END:VTIMEZONE
BEGIN:VEVENT
DTSTART;TZID=America/New_York:20090905T090000
DTEND;TZID=America/New_York:20090905T110000
DTSTAMP:20210406T035228
CREATED:20090905T130000Z
LAST-MODIFIED:20191201T111414Z
UID:376936-1252141200-1252148400@www.patriotguard.org
SUMMARY:Welcome Home
DESCRIPTION:Updated 04 Sep 09 at 0028 EDT by Cagerbob \n*****Mission Update***** \nFor One of Our Own!!!! \nSSgt Richard Baumann \nSon of RdKingRich \n \n \nI am hoping that we get huge numbers to be there for SSgt Baumann\nHis Dad Rich has dedicated more time than you can imagine over the years supporting Our military heros and the PGR\nIt’s his turn for some support to honor the dedication and service of Jr. \nThese are the ride routes and itinerary for this Welcome Home. \nFrom the northeast: \nRide Captain—Hawk \nDepart 0815 hrs—Bergen Harley-Davidson\, Essex St\, Rochelle Park\nDepart 0830 hrs—Brookdale Rest Stop\, Garden State Parkway\, south of Rt 3 crossing\nDepart 0915 hrs—Hook up with CmdrRob at Cheesequake Rest Area\nArrive Final Staging Area approx 1000 hrs \nFrom the northwest: \nRide Captain—CmdrRob \nDepart 0800—Kohl’s Parking Lot Route 10 East Morris Plains NJ (Corner of Route 202 and Route 10)\nWe will travel Route 287 South to RTE 24/78 East to the GSP\nDepart 0915 hrs–Cheesequake Rest area \nFrom Brick Area \nRide Captain—NLiz \nDepart 0945 hrs—Exxon station on SW corner of Lanes Mill Rd and Rt 88\, Lakewood (just north of GSP Exit 90 \n***************************************************************************** \nWELCOME HOME / THANK YOU FOR YOUR SERVICE\n5 September\, 2009 \nSSG. Richard F. Baumann Jr.\, Bayville\, NJ \nThe Patriot Guard Riders have been invited to escort SSG. Richard F. Baumann Jr. family’s long overdue Welcome Home / Thank You For Your Service ceremony in his hometown of Bayville\, NJ.\nWe will arrive at his childhood home\, give him a great big ‘Mug & Hug’ and escort him to a local park where his extended family\, friends and local officials will be awaiting his arrival. SSG. Baumann has no idea of this pending knock on his door. \nSSG. Baumann is a decorated Iraqi war veteran and a career Army soldier. He is in the process of being promoted to SFC\, and just completed advanced leadership and medical training at Ft. Sam Houston\, TX. He has a short leave before returning to Heidelberg\, Germany where he will be assigned NCOIC of the base hospital’s ER/Medic Clinic. \nLet’s give him one heck of a WELCOME HOME AND THANK YOU FOR YOUR SERVICE! \nFINAL STAGING WILL BE THE FORKED RIVER REST AREA\, GSP MM 74. Briefing 10:30\, KSU 10:45.\nRide Captains will post their itineraries when the become available. \nFrom Hudson County Area: \nRide Captain—Buck \nDepart 0800 hrs— Bayonne Wendy’s Parking lot 181 LeFate Way /32nd St. & Rt169 \nDepart 0820—Jersey City – Liberty Caf
URL:https://www.patriotguard.org/mission/welcome-home-132/
CATEGORIES:Archive
END:VEVENT
END:VCALENDAR