BEGIN:VCALENDAR
VERSION:2.0
PRODID:-//Patriot Guard Riders - ECPv5.3.2.1//NONSGML v1.0//EN
CALSCALE:GREGORIAN
METHOD:PUBLISH
X-WR-CALNAME:Patriot Guard Riders
X-ORIGINAL-URL:https://www.patriotguard.org
X-WR-CALDESC:Events for Patriot Guard Riders
BEGIN:VTIMEZONE
TZID:America/New_York
BEGIN:DAYLIGHT
TZOFFSETFROM:-0500
TZOFFSETTO:-0400
TZNAME:EDT
DTSTART:20190310T070000
END:DAYLIGHT
BEGIN:STANDARD
TZOFFSETFROM:-0400
TZOFFSETTO:-0500
TZNAME:EST
DTSTART:20191103T060000
END:STANDARD
END:VTIMEZONE
BEGIN:VEVENT
DTSTART;VALUE=DATE:20190816
DTEND;VALUE=DATE:20190817
DTSTAMP:20210402T124234
CREATED:20190814T160857Z
LAST-MODIFIED:20190814T160857Z
UID:170819-1565913600-1565999999@www.patriotguard.org
SUMMARY:Wayne W. Hagensieker
DESCRIPTION:Honor Mission\nWayne W. Hagensieker\, Veteran\nUSA – Vietnam\nSt. Louis\, Missouri – 08-16-19\n\n\n\n\nABOUT THE MISSION: \nIt is a distinct honor and privilege for the Patriot Guard Riders\, at the family’s request\, to stand a flag line of honor and respect for United States Army Veteran Wayne W. Hagensieker\, 78\, and escort him to Jefferson Barracks National Cemetery where he will receive full military honors. Sergeant (E5) Hagensieker proudly served his country from June 1967 to March 1969 as a Personal Specialist. Hero Hagensieker was awarded a Sharpshooter Medal W/M-14\, National Defense Service Medal and Vietnam Campaign Medal. A grateful nation thanks you and is indebted to you for your honorable service. Your sacrifices have granted us the freedoms we continue to enjoy to this very day. Thank you and Godspeed.\n\n\nPRIMARY STAGING DETAILS: 08-16-19 \nStaging Time: 10:20 AM  \nZiegenhein & Sons South County Location\n4830 Lemay Ferry Road\nSt. Louis\, Missouri 63129\n\n\nRide Captain: \nDan “Top” Parnell\n314-691-8076\ndanparnell@sbcglobal.net\n\n\nSpecial Instructions: \n10:20 AM – Ride meeting followed by flag line welcoming family and friends.\n11:30 AM – Funeral Service followed by honor escort to Jefferson Barracks National Cemetery.\n12:30 PM – Committal Service and Military Honors at Jefferson Barracks National Cemetery.\nCurrent forecast for Friday is 88 Degrees with a 30% chance of showers.\nFlag Support – Jim (GunShy) Kleszcqewski\n\n\nFlags & Water:\nFlags will be provided\nIf you have large bike flags\, please bring them.\nWater will be provided.\n\n\n\nSubmitted By: Dan Parnell \nPosition: Missouri Ride Captain \n\nNote: You do not have to own/ride a motorcycle or be a veteran to join\, and membership is Free. The only requirement is RESPECT! To subscribe to receive mission notices\, log into the National Site and click on the Members tab at the top. Select the Subscribe to PGR Missions option.\n Print This Page
URL:https://www.patriotguard.org/mission/wayne-w-hagensieker/
CATEGORIES:Honor Mission
END:VEVENT
END:VCALENDAR