BEGIN:VCALENDAR
VERSION:2.0
PRODID:-//Patriot Guard Riders - ECPv5.3.2.1//NONSGML v1.0//EN
CALSCALE:GREGORIAN
METHOD:PUBLISH
X-WR-CALNAME:Patriot Guard Riders
X-ORIGINAL-URL:https://www.patriotguard.org
X-WR-CALDESC:Events for Patriot Guard Riders
BEGIN:VTIMEZONE
TZID:America/New_York
BEGIN:DAYLIGHT
TZOFFSETFROM:-0500
TZOFFSETTO:-0400
TZNAME:EDT
DTSTART:20190310T070000
END:DAYLIGHT
BEGIN:STANDARD
TZOFFSETFROM:-0400
TZOFFSETTO:-0500
TZNAME:EST
DTSTART:20191103T060000
END:STANDARD
END:VTIMEZONE
BEGIN:VEVENT
DTSTART;VALUE=DATE:20190727
DTEND;VALUE=DATE:20190728
DTSTAMP:20210404T063637
CREATED:20190726T035735Z
LAST-MODIFIED:20190726T035735Z
UID:168815-1564185600-1564271999@www.patriotguard.org
SUMMARY:Wayne E Bott
DESCRIPTION:Honor Mission\nWayne E Bott\, Retired\, Veteran\nUSA – WWII\nMurray\, Utah – 07-27-19\n\n\n\nABOUT THE MISSION: \nThe Patriot Guard Riders have been requested to stand a flag line for SFC Wayne Bott. SFC Wayne Bott served in the U.S. Army during WWII in the European theater. This will be a veteran’s format. The service will be at the LDS church on 435 E 5600 S in Murray at 11:00 AM. We will stand a flag line at the church and then escort SFC Wayne Bott to his final resting place in the Murray City Cemetery on 5490 S Vine St in Murray\, where we will stand another flag line. Thank you\, SFC Wayne Bott\, for your service. Anyone attending in a cage and willing to transport flags please contact Stephen “Booth” Booth at 801-450-4353.\n\n\nPRIMARY STAGING DETAILS: 07-27-19 \nStaging Time: 11:00 AM\n \nChevron\n5590 S 900 E\nMurray\, Utah\n\n\nRide Captain: \nStephen “Booth” Booth\n801-450-4353\n\n\nSpecial Instructions: \nKSU: 11:30 AM\nWeather: Mostly sunny with a 30% chance of showers and a high of 89.\nPlease dress accordingly and keep yourself hydrated.\n\n\nFlags & Water:\nFlags will be provided\nIf you have large bike flags\, please bring them.\nWater WILL NOT be provided\, please bring your own.\n\n\n\nSubmitted By: Dave Richardson \nPosition: Utah State Captain \n\nNote: You do not have to own/ride a motorcycle or be a veteran to join\, and membership is Free. The only requirement is RESPECT! To subscribe to receive mission notices\, log into the National Site and click on the Members tab at the top. Select the Subscribe to PGR Missions option.\n Print This Page
URL:https://www.patriotguard.org/mission/wayne-e-bott/
CATEGORIES:Honor Mission
END:VEVENT
END:VCALENDAR