BEGIN:VCALENDAR
VERSION:2.0
PRODID:-//Patriot Guard Riders - ECPv5.6.0//NONSGML v1.0//EN
CALSCALE:GREGORIAN
METHOD:PUBLISH
X-WR-CALNAME:Patriot Guard Riders
X-ORIGINAL-URL:https://www.patriotguard.org
X-WR-CALDESC:Events for Patriot Guard Riders
BEGIN:VTIMEZONE
TZID:America/New_York
BEGIN:DAYLIGHT
TZOFFSETFROM:-0500
TZOFFSETTO:-0400
TZNAME:EDT
DTSTART:20160313T070000
END:DAYLIGHT
BEGIN:STANDARD
TZOFFSETFROM:-0400
TZOFFSETTO:-0500
TZNAME:EST
DTSTART:20161106T060000
END:STANDARD
END:VTIMEZONE
BEGIN:VEVENT
DTSTART;TZID=America/New_York:20160609T090000
DTEND;TZID=America/New_York:20160609T110000
DTSTAMP:20210513T082752
CREATED:20160609T130000Z
LAST-MODIFIED:20191201T145301Z
UID:411460-1465462800-1465470000@www.patriotguard.org
SUMMARY:Wayne A. Nottingham
DESCRIPTION:Please note that due to ongoing OPSEC concerns\, mission details are not shown in this posting. All specific details and updates have been sent to members directly via their e-mail address on file.\n\nFellow PGR Members:\n\nWe have been requested to stand in Honor of Wayne A. Nottingham\, who passed away June 2nd. \nMr. Nottingham served in the U.S. Army in 1969-1970.  His MOS was 11H10 – Infantry Direct Fire Crewman\, and he was Discharged Under Honorable Conditions with the rank of Pvt.   He was awarded the National Defense Service Medal. \nMission Details:\nThursday\, June 9\, 2016\nOlean\, NY  14760 \nMemorial Service followed by Escort to:\nMount View Cemetery\nVeteran’s Field of Valor\nInterment with Military Honors \nPlease do whatever you’re able to help Honor the U.S. Army Service of Mr. Nottingham\, and to support his loving family. \nPlease arrive with a clean 3×5 American Flag or a US Army flag.  Please dress for the weather\, and ensure your bike flags are properly placed and securely attached. \nLRC:\nPGRNY Member Joe Joyce\nJjoyce82abn55@yahoo.com
URL:https://www.patriotguard.org/mission/wayne-a-nottingham/
CATEGORIES:Archive
END:VEVENT
END:VCALENDAR