BEGIN:VCALENDAR
VERSION:2.0
PRODID:-//Patriot Guard Riders - ECPv5.6.0//NONSGML v1.0//EN
CALSCALE:GREGORIAN
METHOD:PUBLISH
X-WR-CALNAME:Patriot Guard Riders
X-ORIGINAL-URL:https://www.patriotguard.org
X-WR-CALDESC:Events for Patriot Guard Riders
BEGIN:VTIMEZONE
TZID:America/New_York
BEGIN:DAYLIGHT
TZOFFSETFROM:-0500
TZOFFSETTO:-0400
TZNAME:EDT
DTSTART:20160313T070000
END:DAYLIGHT
BEGIN:STANDARD
TZOFFSETFROM:-0400
TZOFFSETTO:-0500
TZNAME:EST
DTSTART:20161106T060000
END:STANDARD
END:VTIMEZONE
BEGIN:VEVENT
DTSTART;TZID=America/New_York:20160711T090000
DTEND;TZID=America/New_York:20160711T110000
DTSTAMP:20210512T232333
CREATED:20160711T130000Z
LAST-MODIFIED:20191201T144446Z
UID:410710-1468227600-1468234800@www.patriotguard.org
SUMMARY:Warren T. Curry\, 63
DESCRIPTION:[FONT=&amp]updated 11 JUL 16@1555est ArmySSG[/FONT][FONT=&amp]\n[/FONT]\n\n\n[FONT=&amp]\nSP4 [/FONT][FONT=&amp]Warren T. Curry\, 63 \n[ATTACH=CONFIG]4911[/ATTACH]\n[/FONT] \n\nUS Army \nVietnam Era Veteran\n\n\n\n[FONT=&amp]Graveside Service:[/FONT]\n[FONT=&amp]Dayton National Cemetery[/FONT]\n4400 W. Third Street\nDayton\, Ohio 45428\n11 July 2016@ 1100hrs-(11:00 AM)\n[FONT=&amp]Staging: 11 July 2016@ 1030hrs-(10:30 AM)[/FONT] \n\n\nDistrict #7 Captain Forrest Rayburn is assigned this mission of Honor and Respect. Please follow his instructions. Dress per the weather conditions and remember your 3’x5’ American flags. Use your own judgement on how you get safely to and from the mission. If you need to contact Forrest\, e-mail him at: shrubs2000@gmail.com \n\n [ATTACH=CONFIG]4910[/ATTACH] \n[FONT=&amp]“[/FONT][FONT=&amp]Rest in Peace SP4 Curry”[/FONT]\n\n\nFor/Robert “Bob” Woods\n  [FONT=&amp]OH SC[/FONT]
URL:https://www.patriotguard.org/mission/warren-t-curry-63/
END:VEVENT
END:VCALENDAR