BEGIN:VCALENDAR
VERSION:2.0
PRODID:-//Patriot Guard Riders - ECPv5.3.2.1//NONSGML v1.0//EN
CALSCALE:GREGORIAN
METHOD:PUBLISH
X-WR-CALNAME:Patriot Guard Riders
X-ORIGINAL-URL:https://www.patriotguard.org
X-WR-CALDESC:Events for Patriot Guard Riders
BEGIN:VTIMEZONE
TZID:America/New_York
BEGIN:DAYLIGHT
TZOFFSETFROM:-0500
TZOFFSETTO:-0400
TZNAME:EDT
DTSTART:20190310T070000
END:DAYLIGHT
BEGIN:STANDARD
TZOFFSETFROM:-0400
TZOFFSETTO:-0500
TZNAME:EST
DTSTART:20191103T060000
END:STANDARD
END:VTIMEZONE
BEGIN:VEVENT
DTSTART;VALUE=DATE:20190615
DTEND;VALUE=DATE:20190616
DTSTAMP:20210405T063413
CREATED:20190612T143539Z
LAST-MODIFIED:20190612T143539Z
UID:164558-1560556800-1560643199@www.patriotguard.org
SUMMARY:Warren R Norton
DESCRIPTION:Honor Mission\nWarren R Norton\, Veteran\nUSA – WWII\nGoldendale\, Washington – 06-15-19\n\n\n\nABOUT THE MISSION: \nLadies and Gentlemen of the Patriot Guard Riders\, we have been requested to stand for Warren R. Norton\, 98. Mr Norton served with the United States Army from 4/May/1942 to 2/Oct/1945. PFC Norton specialized in heavy equipment operations as a Truck Driver. As one our Greatest Generation we owe much to him and his comrades. Thank you for your service. Your duty is recognized and complete.\n\n\nPRIMARY STAGING DETAILS: 06-15-19 \nStaging Time: 08:40 AM\n \nMountain View Cemetery\nN. Columbus Ave.\nGoldendale\, Washington 98620\n\n\nRide Captain: \nWarren Hemenway\njeanneh14@embargmail.com\n503-730-7019\n\n\nSpecial Instructions: \n9:00 AM – Briefing\n9:15 AM – KSU to mission location / establish flag line\n10:00AM- Service begins\n10:30AM- Dismissal (approximate).\nGroup ride to staging location from the Dalles:\nStage at McDonalds\, 341 Lone Pine Dr\, The Dalles\, OR 97058.\n7:45AM with KSU at 8:00AM.\n\n\nFlags & Water:\nFlags will not be provided\nIf you have large bike flags\, please bring them.\nWater WILL NOT be provided\, please bring your own.\n\n\n\nSubmitted By: chuck lashley \nPosition: Washington Ride Captain \n\nNote: You do not have to own/ride a motorcycle or be a veteran to join\, and membership is Free. The only requirement is RESPECT! To subscribe to receive mission notices\, log into the National Site and click on the Members tab at the top. Select the Subscribe to PGR Missions option.\n Print This Page
URL:https://www.patriotguard.org/mission/warren-r-norton/
CATEGORIES:Honor Mission
END:VEVENT
END:VCALENDAR