BEGIN:VCALENDAR
VERSION:2.0
PRODID:-//Patriot Guard Riders - ECPv5.3.2.1//NONSGML v1.0//EN
CALSCALE:GREGORIAN
METHOD:PUBLISH
X-WR-CALNAME:Patriot Guard Riders
X-ORIGINAL-URL:https://www.patriotguard.org
X-WR-CALDESC:Events for Patriot Guard Riders
BEGIN:VTIMEZONE
TZID:America/New_York
BEGIN:DAYLIGHT
TZOFFSETFROM:-0500
TZOFFSETTO:-0400
TZNAME:EDT
DTSTART:20190310T070000
END:DAYLIGHT
BEGIN:STANDARD
TZOFFSETFROM:-0400
TZOFFSETTO:-0500
TZNAME:EST
DTSTART:20191103T060000
END:STANDARD
END:VTIMEZONE
BEGIN:VEVENT
DTSTART;VALUE=DATE:20190705
DTEND;VALUE=DATE:20190706
DTSTAMP:20210404T034123
CREATED:20190703T212227Z
LAST-MODIFIED:20190703T212227Z
UID:166568-1562284800-1562371199@www.patriotguard.org
SUMMARY:Warren Pullam
DESCRIPTION:Honor Mission\nWarren Pullam\, Retired\nUSA –\nMedical Lake\, Washington – 07-05-19\n\n\n\nABOUT THE MISSION: \nLadies and Gentlemen\, the family of Warren Pullam has requested the presence of the Patriot Guard to stand in honor of his service to our country in the United States Army during his internment ceremony. Warren lost his battle with cancer at the young age of 58 years old. He left behind his wife\, four children and three grandchildren.\n\n\nPRIMARY STAGING DETAILS: 07-05-19 \nStaging Time: 1:30 PM\n \nDenny’s Harvest Foods\n215 Hwy 902\nMedical Lake\, Washington 99022\n\n\nRide Captain: \nHoward “Odd Duck” Griffith\nhoward@oddduckcomputing.com\n(509) 710-7291\n\n\nSpecial Instructions: \n1:30pm – Staging and Sign-in\n2:00pm – Mission Briefing\n2:15pm – KSU\n2:20pm – Arrival and Setup\n2:30pm – Flag Line in place\n3:00pm – Internment ceremony begins.\nThe Flag Line will be dismissed at the discretion of the Ride Captain following military honors.\n\n\nFlags & Water:\nFlags will be provided\nLarge Bike Flags will NOT be needed.\nWater will be provided.\n\n\n\nSubmitted By: Howard Griffith \nPosition: Washington Ride Captain \n\nNote: You do not have to own/ride a motorcycle or be a veteran to join\, and membership is Free. The only requirement is RESPECT! To subscribe to receive mission notices\, log into the National Site and click on the Members tab at the top. Select the Subscribe to PGR Missions option.\n Print This Page
URL:https://www.patriotguard.org/mission/warren-pullam/
CATEGORIES:Honor Mission
END:VEVENT
END:VCALENDAR