BEGIN:VCALENDAR
VERSION:2.0
PRODID:-//Patriot Guard Riders - ECPv5.3.2.1//NONSGML v1.0//EN
CALSCALE:GREGORIAN
METHOD:PUBLISH
X-WR-CALNAME:Patriot Guard Riders
X-ORIGINAL-URL:https://www.patriotguard.org
X-WR-CALDESC:Events for Patriot Guard Riders
BEGIN:VTIMEZONE
TZID:America/New_York
BEGIN:DAYLIGHT
TZOFFSETFROM:-0500
TZOFFSETTO:-0400
TZNAME:EDT
DTSTART:20190310T070000
END:DAYLIGHT
BEGIN:STANDARD
TZOFFSETFROM:-0400
TZOFFSETTO:-0500
TZNAME:EST
DTSTART:20191103T060000
END:STANDARD
END:VTIMEZONE
BEGIN:VEVENT
DTSTART;VALUE=DATE:20190920
DTEND;VALUE=DATE:20190921
DTSTAMP:20210401T105913
CREATED:20190919T004306Z
LAST-MODIFIED:20190919T004306Z
UID:174880-1568937600-1569023999@www.patriotguard.org
SUMMARY:Warren Lee Grant
DESCRIPTION:Honor Mission\nWarren Lee Grant\, Veteran\nUSA – Vietnam\nAustin\, Texas – 09-20-19\n\n\n\nABOUT THE MISSION: \nMr. Grant\, 77\, served in the US Army from 1966 to 1968 including one year in Vietnam. He left the service as a Corporal.\n\n\nPRIMARY STAGING DETAILS: 09-20-19 \nStaging Time: 09:00 AM\n \nEbenezer Baptist Church\n1010 East 10th Street\nAustin\, Texas 78702\nMap\n\n\nRide Captain: \nKeith Longacre\nkeithlongacre@att.net\n(512) 751-8955\n\nFlag Wrangler: Don Ferguson\n\n\nSpecial Instructions: \nThis is a flag line only for the funeral service. At the conclusion of the service we will strike the flag line and depart quietly. Burial will take place the same day at 1 pm at Central Texas State Veterans Cemetery in Killeen. Centex PGR has been invited to stand for the burial portion.\n\n\nFlags & Water:\nFlags will be provided\nLarge Bike Flags will NOT be needed.\nWater will be provided.\n\n\n\nSubmitted By: Mark Wells \nPosition: Texas Ride Captain \n\nNote: You do not have to own/ride a motorcycle or be a veteran to join\, and membership is Free. The only requirement is RESPECT! To subscribe to receive mission notices\, log into the National Site and click on the Members tab at the top. Select the Subscribe to PGR Missions option.\n Print This Page
URL:https://www.patriotguard.org/mission/warren-lee-grant/
CATEGORIES:Honor Mission
END:VEVENT
END:VCALENDAR