BEGIN:VCALENDAR
VERSION:2.0
PRODID:-//Patriot Guard Riders - ECPv5.6.0//NONSGML v1.0//EN
CALSCALE:GREGORIAN
METHOD:PUBLISH
X-WR-CALNAME:Patriot Guard Riders
X-ORIGINAL-URL:https://www.patriotguard.org
X-WR-CALDESC:Events for Patriot Guard Riders
BEGIN:VTIMEZONE
TZID:America/New_York
BEGIN:DAYLIGHT
TZOFFSETFROM:-0500
TZOFFSETTO:-0400
TZNAME:EDT
DTSTART:20160313T070000
END:DAYLIGHT
BEGIN:STANDARD
TZOFFSETFROM:-0400
TZOFFSETTO:-0500
TZNAME:EST
DTSTART:20161106T060000
END:STANDARD
END:VTIMEZONE
BEGIN:VEVENT
DTSTART;TZID=America/New_York:20160729T090000
DTEND;TZID=America/New_York:20160729T110000
DTSTAMP:20210512T164127
CREATED:20160729T130000Z
LAST-MODIFIED:20191201T144046Z
UID:410342-1469782800-1469790000@www.patriotguard.org
SUMMARY:Warren Karl Thompson\, USN Veteran / Mesa
DESCRIPTION:The  family of Warren K. Thompson has requested the presence of the Patriot Guard Riders to stand a flag line for services and escort for  military honors. It will be our honor  to participate. \n Warren K. Thompson was a United States Navy Veteran. Warren served in the United States Navy from  1971 to 1975.\n\n Ride Captain: Mike “Sully” Sullivan\, 602-751-1694\, sullyazpgr@cox.net\n\n Flag Support Vehicle Person:   TBD\n\n Date: 29 July 2016 \n Staging Time: 0845 hours\, Rose  Hill Funeral Home\, 1130 S Horne\, Mesa\, AZ 85204 \n\n Briefing Time: 0905 hours \n\n KSU Time : 0920 hours\, We will escort our hero and his family from the funeral home  in Mesa to the National Memorial Cemetery of Arizona and stand a flag  line for military honors.  \n Staging Time for those not escorting: 1010 hours\, National Memorial Cemetery of Arizona\,  23029 N Cave Creek Rd\, Phoenix\, AZ 85024  \n Military Honors: 1030 hours\, National Memorial Cemetery of Arizona\, 23029 N Cave Creek Rd\,  Phoenix\, AZ 85024  \n Road Guards are requested. Please contact Don “DJ” Jordan  with availability  \n Due to Arizona Weather\, please hydrate the day before and the day of the mission.
URL:https://www.patriotguard.org/mission/warren-karl-thompson-usn-veteran-mesa/
CATEGORIES:Archive
END:VEVENT
END:VCALENDAR