BEGIN:VCALENDAR
VERSION:2.0
PRODID:-//Patriot Guard Riders - ECPv5.3.2.1//NONSGML v1.0//EN
CALSCALE:GREGORIAN
METHOD:PUBLISH
X-WR-CALNAME:Patriot Guard Riders
X-ORIGINAL-URL:https://www.patriotguard.org
X-WR-CALDESC:Events for Patriot Guard Riders
BEGIN:VTIMEZONE
TZID:America/New_York
BEGIN:DAYLIGHT
TZOFFSETFROM:-0500
TZOFFSETTO:-0400
TZNAME:EDT
DTSTART:20190310T070000
END:DAYLIGHT
BEGIN:STANDARD
TZOFFSETFROM:-0400
TZOFFSETTO:-0500
TZNAME:EST
DTSTART:20191103T060000
END:STANDARD
END:VTIMEZONE
BEGIN:VEVENT
DTSTART;VALUE=DATE:20190531
DTEND;VALUE=DATE:20190601
DTSTAMP:20210404T230823
CREATED:20190530T020802Z
LAST-MODIFIED:20190530T020802Z
UID:162222-1559260800-1559347199@www.patriotguard.org
SUMMARY:Walter "Wally" N Orvik
DESCRIPTION:Honor Mission\nWalter “Wally” N Orvik\, Veteran\nUSA –\nGrand Junction\, Colorado – 05-31-19\n\n\n\nABOUT THE MISSION: \nWalter served his country while stationed in Munich\, Germany. After his service he had a career in outside sales for a large business equipment company.\n\n\nPRIMARY STAGING DETAILS: 05-31-19 \nStaging Time: 12:15 PM\n \nShelter Area Veterans Memorial Cemetery\n2830 Riverside Parkway\nGrand Junction\, Colorado 81501\n\n\nRide Captain: \nTim Himes\n970-242-9570\n\nAsst: Art (groady) Edwards\, Western Slope Assist State Captain\, 970-250-1174\n\n\nSpecial Instructions: \n\n\nFlags & Water:\nFlags will be provided\nLarge Bike Flags will NOT be needed.\nWater will be provided.\n\n\n\nSubmitted By: Arthur Edwards \nPosition: Colorado Assistant State Captain \n\nNote: You do not have to own/ride a motorcycle or be a veteran to join\, and membership is Free. The only requirement is RESPECT! To subscribe to receive mission notices\, log into the National Site and click on the Members tab at the top. Select the Subscribe to PGR Missions option.\n Print This Page
URL:https://www.patriotguard.org/mission/walter-wally-n-orvik/
CATEGORIES:Honor Mission
END:VEVENT
END:VCALENDAR