BEGIN:VCALENDAR
VERSION:2.0
PRODID:-//Patriot Guard Riders - ECPv5.6.0//NONSGML v1.0//EN
CALSCALE:GREGORIAN
METHOD:PUBLISH
X-WR-CALNAME:Patriot Guard Riders
X-ORIGINAL-URL:https://www.patriotguard.org
X-WR-CALDESC:Events for Patriot Guard Riders
BEGIN:VTIMEZONE
TZID:America/New_York
BEGIN:DAYLIGHT
TZOFFSETFROM:-0500
TZOFFSETTO:-0400
TZNAME:EDT
DTSTART:20160313T070000
END:DAYLIGHT
BEGIN:STANDARD
TZOFFSETFROM:-0400
TZOFFSETTO:-0500
TZNAME:EST
DTSTART:20161106T060000
END:STANDARD
END:VTIMEZONE
BEGIN:VEVENT
DTSTART;TZID=America/New_York:20160622T090000
DTEND;TZID=America/New_York:20160622T110000
DTSTAMP:20210513T130208
CREATED:20160622T130000Z
LAST-MODIFIED:20191201T025924Z
UID:302179-1466586000-1466593200@www.patriotguard.org
SUMMARY:Walter Taylor. 84\, USMM
DESCRIPTION:The family of Mr.  Walter Taylor has requested the Patriot Guard to honor the life and  U.S. Merchant Marine service of their loved one. We are honored to be  able to fulfill that request. \n\nMr. Taylor served with the Merchant Marines during WWII. \n\nSTAGING: \nWatkins Funeral Home \n163 North Ave. \nJonesboro\, GA \n1015 (10:15 AM) \nWed. 22 June 2016 \n\nWe  will stand a flag line during the visitation from 1030 until the  beginning of the service at 1200. At the conclusion of the service we  will escort Mr. Taylor to his final resting place at Sherwood Memorial  Gardens in Jonesboro. He will be laid to rest with USMC honors. \n\nRCIC: \nJoe “Mack” McGuigan \njoemackusmc@gmail.com\n[URL=”tel:678-548-1595″]678-548-1595[/URL]
URL:https://www.patriotguard.org/mission/walter-taylor-84-usmm/
END:VEVENT
END:VCALENDAR