BEGIN:VCALENDAR
VERSION:2.0
PRODID:-//Patriot Guard Riders - ECPv5.3.2.1//NONSGML v1.0//EN
CALSCALE:GREGORIAN
METHOD:PUBLISH
X-WR-CALNAME:Patriot Guard Riders
X-ORIGINAL-URL:https://www.patriotguard.org
X-WR-CALDESC:Events for Patriot Guard Riders
BEGIN:VTIMEZONE
TZID:America/New_York
BEGIN:DAYLIGHT
TZOFFSETFROM:-0500
TZOFFSETTO:-0400
TZNAME:EDT
DTSTART:20190310T070000
END:DAYLIGHT
BEGIN:STANDARD
TZOFFSETFROM:-0400
TZOFFSETTO:-0500
TZNAME:EST
DTSTART:20191103T060000
END:STANDARD
END:VTIMEZONE
BEGIN:VEVENT
DTSTART;VALUE=DATE:20190817
DTEND;VALUE=DATE:20190818
DTSTAMP:20210402T070641
CREATED:20190814T223622Z
LAST-MODIFIED:20190814T223622Z
UID:170952-1566000000-1566086399@www.patriotguard.org
SUMMARY:Walter Samuel Gainey Jr.
DESCRIPTION:Honor Mission\nWalter Samuel Gainey Jr.\, Retired\, Veteran\nUSA\, USAF – Korea\, Vietnam\, WoT\nOwensboro\, Kentucky – 08-17-19\n\n\n\nABOUT THE MISSION: \nThe family of US Army CW4 Counterintelligence Technician\, Walter Samuel Gainey Jr. has asked us to stand a flag line at the visitation. It will be our great honor to do so. This will only be for visitation as Mr. Gainey’s final resting place will be in Arlington National Cemetery\, where he will reunite with his wife. Mr. Gainey Jr. served in the Air Force for 2 years and then later joined the Army and served for another 36 years. He was the 1st Black man to serve in many high positions in the US Army Intelligence Field and spoke 7 languages. He served in the Korean\, Vietnam and Desert Storm wars. Mr. Gainey was awarded the Armed Forces Reserve Medal/Army of Occupation Medal (Army-Air Force)/Army Commendation Medal 3rd OLC/Army Service Medal/Army Superior Unit Award/Bronze Star Medal/Good Conduct Medal 2D/Legion of Merit/Meritorious Service Medal/Meritorious Unit Commendation/National Defense Service Medal 3D/Overseas Service Ribbon w/Num 6/Republic of Vietnam Gallantry Cross with Palm Unit Citation/Republic of Vietnam Campaign Medal/Vietnam Service Medal w/2 Service Stars/Expert Marksmanship Badge Rifle/Overseas Service Bar-2/Sharpshooter Marksmanship Badge Pistol.\n\n\nPRIMARY STAGING DETAILS: 08-17-19 \nStaging Time: 11:30 AM CST\n \nHaley McGinnis Funeral Home & Crematory\n519 Locust St.\nOwensboro\, Kentucky 42301\n\n\nRide Captain: \nJeff Free\n270-903-1722\nSandy Free\, 270-314-1170\n\n\nSpecial Instructions: \nVISITATION ONLY\nStaking of flags: 11:30 AM\nBriefing: 11:45 AM\nFlag line: 12:00 PM – 5:00 PM\nPlease come for whatever time you are able.\n\n\nFlags & Water:\nFlags will be provided\nLarge Bike Flags will NOT be needed.\nWater will be provided.\n\n\n\nSubmitted By: Sandy Free \nPosition: \n\nNote: You do not have to own/ride a motorcycle or be a veteran to join\, and membership is Free. The only requirement is RESPECT! To subscribe to receive mission notices\, log into the National Site and click on the Members tab at the top. Select the Subscribe to PGR Missions option.\n Print This Page
URL:https://www.patriotguard.org/mission/walter-samuel-gainey-jr/
CATEGORIES:Honor Mission
END:VEVENT
END:VCALENDAR