BEGIN:VCALENDAR
VERSION:2.0
PRODID:-//Patriot Guard Riders - ECPv5.3.2.1//NONSGML v1.0//EN
CALSCALE:GREGORIAN
METHOD:PUBLISH
X-WR-CALNAME:Patriot Guard Riders
X-ORIGINAL-URL:https://www.patriotguard.org
X-WR-CALDESC:Events for Patriot Guard Riders
BEGIN:VTIMEZONE
TZID:America/New_York
BEGIN:DAYLIGHT
TZOFFSETFROM:-0500
TZOFFSETTO:-0400
TZNAME:EDT
DTSTART:20190310T070000
END:DAYLIGHT
BEGIN:STANDARD
TZOFFSETFROM:-0400
TZOFFSETTO:-0500
TZNAME:EST
DTSTART:20191103T060000
END:STANDARD
END:VTIMEZONE
BEGIN:VEVENT
DTSTART;VALUE=DATE:20190812
DTEND;VALUE=DATE:20190813
DTSTAMP:20210402T065926
CREATED:20190810T061635Z
LAST-MODIFIED:20190810T061635Z
UID:170264-1565568000-1565654399@www.patriotguard.org
SUMMARY:Walter F. "Cotton" Tiefenauer\, Jr.
DESCRIPTION:Honor Mission\nWalter F. “Cotton” Tiefenauer\, Jr.\, Retired\, Veteran\nUSA \, USAR – Korea\, Vietnam\nDesloge\, Missouri – 08-12-19\n\n\n\nABOUT THE MISSION: \nThe family of US Army\, Korean-Vietnam Veteran\, MSG. Walter F. Tiefenauer\, Jr. (91 yrs.) has requested the Presence of the Patriot Guard for the final mission of their loved one. MSG. Tiefenauer served his country from 1948 to 1971 (23 yrs.). He served 2 tours in Korea and 2 tours in Vietnam. While working on missiles located in White Sands\, New Mexico\, he was awarded the highest honor in peace time. He was cited by President J.F. Kennedy for distinguishing himself by heroism and was awarded the Soldier’s Medal. During his career he had earned numerous Medals and Awards and shook the hands of 3 Presidents\, Harry S.Truman\, Richard M.Nixon as well as J.F. Kennedy.\n\n\nPRIMARY STAGING DETAILS: 08-12-19 \nStaging Time: 9:15 am  \nC.Z. Boyer & Son Funeral Home\n1116 N. Desloge\nDesloge\, Missouri 63601\n\n\nRide Captain: \nS. Roger “Goose” Dollinger\,\nsrdoll@charter.net\n\n\nSpecial Instructions: \nStaging: 9:15 am to Stake and Establish a Flag Line.\nVisitation: 9:30 am to 10:30 am.\nService: 10:30 am\nHonor Escort to St. Francois Memorial Park for Interment with Full Military Honors.\nWeather: 90 / Partly Cloudy / 20% Chance of Precip / HYDRATE / HYDRATE.\n\n\nFlags & Water:\nFlags will be provided\nIf you have large bike flags\, please bring them.\nWater will be provided.\n\nSubmitted By: S. Roger “Goose” Dollinger \nPosition: Missouri Ride Captain \n\nNote: You do not have to own/ride a motorcycle or be a veteran to join\, and membership is Free. The only requirement is RESPECT! To subscribe to receive mission notices\, log into the National Site and click on the Members tab at the top. Select the Subscribe to PGR Missions option.\n Print This Page
URL:https://www.patriotguard.org/mission/walter-f-cotton-tiefenauer-jr/
CATEGORIES:Honor Mission
END:VEVENT
END:VCALENDAR