BEGIN:VCALENDAR
VERSION:2.0
PRODID:-//Patriot Guard Riders - ECPv5.3.2.1//NONSGML v1.0//EN
CALSCALE:GREGORIAN
METHOD:PUBLISH
X-WR-CALNAME:Patriot Guard Riders
X-ORIGINAL-URL:https://www.patriotguard.org
X-WR-CALDESC:Events for Patriot Guard Riders
BEGIN:VTIMEZONE
TZID:America/New_York
BEGIN:DAYLIGHT
TZOFFSETFROM:-0500
TZOFFSETTO:-0400
TZNAME:EDT
DTSTART:20190310T070000
END:DAYLIGHT
BEGIN:STANDARD
TZOFFSETFROM:-0400
TZOFFSETTO:-0500
TZNAME:EST
DTSTART:20191103T060000
END:STANDARD
END:VTIMEZONE
BEGIN:VEVENT
DTSTART;VALUE=DATE:20190914
DTEND;VALUE=DATE:20190915
DTSTAMP:20210401T112047
CREATED:20190913T083414Z
LAST-MODIFIED:20190913T083414Z
UID:173807-1568419200-1568505599@www.patriotguard.org
SUMMARY:Walter E. Hutchins
DESCRIPTION:Honor Mission\nWalter E. Hutchins\, Veteran\nUSA – Vietnam\nLottie\, Louisiana – 09-14-19\n\n\n\nABOUT THE MISSION: \nMr. Hutchins\, a native of Lebeau\, LA and 50 year a resident of Lottie\, LA. Walter was a decorated Army veteran. He served three tours of duty in Vietnam. He was a member of the 101st Airborne Division\, the 82nd Airborne Division\, the 73rd Airborne Division and the 16th Engineer Battalion from 1965 to 1970. He was awarded 3 Bronze Stars\, Purple Heart with Oak Leaf Cluster. He is survived by his wife of 50 years and daughter.\n\n\nPRIMARY STAGING DETAILS: 09-14-19 \nStaging Time: 09:00 AM\n \nCane Brake Baptist Church\n5458 La Hwy 81 E.\nLottie\, Louisiana 70756\n\n\nRide Captain: \nPaul “TURN TO” Ladut\n225-333-8767\nladutp@yahoo.com\n\n\nSpecial Instructions: \n0900 Set flags\n1000 – 1200 Visitation set flag line\n1200 Funeral Service Burial location Cottonwood Cemetery\, Lottie\, LA.\nEscort to be determined.\n\n\nFlags & Water:\nFlags will be provided\nIf you have large bike flags\, please bring them.\nWater will be provided.\n\n\n\nSubmitted By: Paul Ladut \nPosition: \n\nNote: You do not have to own/ride a motorcycle or be a veteran to join\, and membership is Free. The only requirement is RESPECT! To subscribe to receive mission notices\, log into the National Site and click on the Members tab at the top. Select the Subscribe to PGR Missions option.\n Print This Page
URL:https://www.patriotguard.org/mission/walter-e-hutchins/
CATEGORIES:Honor Mission
END:VEVENT
END:VCALENDAR