BEGIN:VCALENDAR
VERSION:2.0
PRODID:-//Patriot Guard Riders - ECPv5.6.0//NONSGML v1.0//EN
CALSCALE:GREGORIAN
METHOD:PUBLISH
X-WR-CALNAME:Patriot Guard Riders
X-ORIGINAL-URL:https://www.patriotguard.org
X-WR-CALDESC:Events for Patriot Guard Riders
BEGIN:VTIMEZONE
TZID:America/New_York
BEGIN:DAYLIGHT
TZOFFSETFROM:-0500
TZOFFSETTO:-0400
TZNAME:EDT
DTSTART:20160313T070000
END:DAYLIGHT
BEGIN:STANDARD
TZOFFSETFROM:-0400
TZOFFSETTO:-0500
TZNAME:EST
DTSTART:20161106T060000
END:STANDARD
END:VTIMEZONE
BEGIN:VEVENT
DTSTART;TZID=America/New_York:20160820T090000
DTEND;TZID=America/New_York:20160820T110000
DTSTAMP:20210512T034643
CREATED:20160820T130000Z
LAST-MODIFIED:20191201T143507Z
UID:409820-1471683600-1471690800@www.patriotguard.org
SUMMARY:Walter C. Kendell\, 69
DESCRIPTION:Ladies and Gentlemen of the Patriot Guard Riders\, the family of United States Army Veteran Walter Kendall has asked us to stand for him during the rendering of Military Honors at his celebration of life service. \nDuring his tour of duty\, Walter was stationed in Berlin\, Germany and was Honorably discharged. \nOur own PGR sister Mary “Whistler” Astrid was friends with Walter and his family.   \nThe U.S. Army Honor Guard will fold and present the burial flag. \nThe Castle Rock/Centralia American Legions Posts will join forces to render the rifle volley.     \nMISSION PLAN: This will be a flag line mission only.   \nMISSION DATE: 20 AUG 2016 / Saturday  \nSTAGING LOCATION: Pe Ell Texaco; 504 N Main Street\, Pe Ell\, WA.    \nSCHEDULE:\n0930 – Staging/Sign in\n0955 – Briefing\n1010 – KSU for mission location\n1030 – Establish flag line \n1100 – Service begins with military honors.  Members will hold the line until the rendering of Honors is complete then quietly fade away.      \nRIDE CAPTAIN: Mark Keire; thewolf98682@yaoo.com \nSV/RCIT: Warren Besco; warrenbesco@gmail.com
URL:https://www.patriotguard.org/mission/walter-c-kendell-69/
CATEGORIES:Archive
END:VEVENT
END:VCALENDAR