BEGIN:VCALENDAR
VERSION:2.0
PRODID:-//Patriot Guard Riders - ECPv5.3.2.1//NONSGML v1.0//EN
CALSCALE:GREGORIAN
METHOD:PUBLISH
X-WR-CALNAME:Patriot Guard Riders
X-ORIGINAL-URL:https://www.patriotguard.org
X-WR-CALDESC:Events for Patriot Guard Riders
BEGIN:VTIMEZONE
TZID:America/New_York
BEGIN:DAYLIGHT
TZOFFSETFROM:-0500
TZOFFSETTO:-0400
TZNAME:EDT
DTSTART:20090308T070000
END:DAYLIGHT
BEGIN:STANDARD
TZOFFSETFROM:-0400
TZOFFSETTO:-0500
TZNAME:EST
DTSTART:20091101T060000
END:STANDARD
END:VTIMEZONE
BEGIN:VEVENT
DTSTART;TZID=America/New_York:20091125T090000
DTEND;TZID=America/New_York:20091125T110000
DTSTAMP:20210406T035432
CREATED:20091125T140000Z
LAST-MODIFIED:20191201T110856Z
UID:375944-1259139600-1259146800@www.patriotguard.org
SUMMARY:Walter C. Jones
DESCRIPTION:updated on 24 NOV 09 at 06:53 est by patchworksmin \n*******FINAL STAGING GSP ATLANTIC CITY REST AREA MM 41\, KSU 09:15******* \nRIDE ITINERARY FROM THE SHORE AREA\nGSP Forked River Rest Area\, north parking lot\, KSU 08:45\nGSP south to the Atlantic City Rest Area\, KSU 09:15\nto the Linwood Community Church. \nRich \n \n\nThe Patriot Guard Riders have been requested in honoring Walter C. Jones\, 86\,  SSGT\, WWII veteran at the Linwood Community Church\, 1838 Shore Rd\, Linwood\, NJ\, 25 November at 10:00 hrs. \nWe will set our flag line for 10:00 viewing\, break for 11:00 services and under LEO support escort to the Atlantic County Veterans Cemetery where we will set our flag line for grave side services. \nRide itineraries will be posted when complete. \nRich Baumann\nSenior Ride Captain
URL:https://www.patriotguard.org/mission/walter-c-jones/
CATEGORIES:Archive
END:VEVENT
END:VCALENDAR