BEGIN:VCALENDAR
VERSION:2.0
PRODID:-//Patriot Guard Riders - ECPv5.3.2.1//NONSGML v1.0//EN
CALSCALE:GREGORIAN
METHOD:PUBLISH
X-WR-CALNAME:Patriot Guard Riders
X-ORIGINAL-URL:https://www.patriotguard.org
X-WR-CALDESC:Events for Patriot Guard Riders
BEGIN:VTIMEZONE
TZID:America/New_York
BEGIN:DAYLIGHT
TZOFFSETFROM:-0500
TZOFFSETTO:-0400
TZNAME:EDT
DTSTART:20190310T070000
END:DAYLIGHT
BEGIN:STANDARD
TZOFFSETFROM:-0400
TZOFFSETTO:-0500
TZNAME:EST
DTSTART:20191103T060000
END:STANDARD
END:VTIMEZONE
BEGIN:VEVENT
DTSTART;VALUE=DATE:20190529
DTEND;VALUE=DATE:20190530
DTSTAMP:20210404T235452
CREATED:20190528T184051Z
LAST-MODIFIED:20190528T184051Z
UID:162556-1559088000-1559174399@www.patriotguard.org
SUMMARY:Walter Alleen Twyford
DESCRIPTION:Honor Mission\nWalter Alleen Twyford\nUSA – Vietnam\nChandler\, Arizona – 05-29-19\n\n\n\nABOUT THE MISSION: \nWalter Allen Twyford is a United States Army Veteran. Walt served with the 25th Infantry Division and saw combat action in Vietnam. 2nd Lieutenant Twyford was honorably discharged on Sept. 21\, 1966. Walt received the National Defense Service Medal\, Vietnam Campaign Medal\, Republic of Vietnam Campaign Medal\, Combat Infantry Badge\, Expert Machine Gun – M60 Badge\, Jungle Expert Badge\, 2 Bronze Stars\, Purple Heart\, among others.\n\n\nPRIMARY STAGING DETAILS: 05-29-19 \nStaging Time: 11:10 am\n \nLegacy Funeral Home\n1374 N. Arizona Ave\nChandler\, Arizona 85225\n\n\nRide Captain: \nDavid “Murf” Murphy\n480-406-4049\nazpgrmurf@gmail.com\n\n\nSpecial Instructions: \nCircle of Honor: 11:30 AM\nKSU: 11:40 AM\nMilitary Honors\, National Memorial: 1:00 PM\n\n\nFlags & Water:\nFlags will not be provided\nIf you have large bike flags\, please bring them.\nWater WILL NOT be provided\, please bring your own.\n\nSTAGING #2 DETAILS: 05-29-19 \nStaging Time: 12:30 pm\n \nNational Memorial Cemetery of Arizona\nVisitor’s Center\n23029 N. Cave Creek Rd.\nPhoenix\, Arizona 85024\n\n\nRide Captain: \nDavid “Murf” Murphy\n480-406-4049\nazpgrmurf@gmail.com\n\n\nSpecial Instructions: \nSet Flag Line: 12:40 PM\nMilitary Honors: 1:00 PM\n\n\nFlags & Water:\nFlags will be provided\nLarge Bike Flags will NOT be needed.\nWater will be provided.\n\nSubmitted By: David Murphy \nPosition: Arizona Assistant State Captain \n\nNote: You do not have to own/ride a motorcycle or be a veteran to join\, and membership is Free. The only requirement is RESPECT! To subscribe to receive mission notices\, log into the National Site and click on the Members tab at the top. Select the Subscribe to PGR Missions option.\n Print This Page
URL:https://www.patriotguard.org/mission/walter-alleen-twyford/
CATEGORIES:Honor Mission
END:VEVENT
END:VCALENDAR