BEGIN:VCALENDAR
VERSION:2.0
PRODID:-//Patriot Guard Riders - ECPv5.6.0//NONSGML v1.0//EN
CALSCALE:GREGORIAN
METHOD:PUBLISH
X-WR-CALNAME:Patriot Guard Riders
X-ORIGINAL-URL:https://www.patriotguard.org
X-WR-CALDESC:Events for Patriot Guard Riders
BEGIN:VTIMEZONE
TZID:America/New_York
BEGIN:DAYLIGHT
TZOFFSETFROM:-0500
TZOFFSETTO:-0400
TZNAME:EDT
DTSTART:20160313T070000
END:DAYLIGHT
BEGIN:STANDARD
TZOFFSETFROM:-0400
TZOFFSETTO:-0500
TZNAME:EST
DTSTART:20161106T060000
END:STANDARD
END:VTIMEZONE
BEGIN:VEVENT
DTSTART;TZID=America/New_York:20160624T090000
DTEND;TZID=America/New_York:20160624T110000
DTSTAMP:20210513T161853
CREATED:20160624T130000Z
LAST-MODIFIED:20191201T144851Z
UID:411083-1466758800-1466766000@www.patriotguard.org
SUMMARY:Wallace Linwood Walker\, 83\, USA
DESCRIPTION:We have been invited by the family of Wallace Linwood Walker\, 83\, Korean War Lt. Col\, US Army Veteran\, to stand in his honor. Mr. Walker was a life long patriot and loved his country to the point he was willing to give his life in battle. It is now our honor to stand for this man and escort him to his final resting place. \nThe following arrangements have been made. \nFuneral\nDate Friday June 24\, 2016\nTime 11:00 AM\nPlace Stith Funeral Home\, 318 W. Broadway\, Danville\, Ky  40422\nStage At Funeral Home at 10:00 AM \nBurial will be at Lexington Cemetery 833 W. Main St.\, Lexington\, Ky At 1:30 PM \nSRC\nDavid Arnold\nkng570@aol.com\n859 338 8635
URL:https://www.patriotguard.org/mission/wallace-linwood-walker-83-usa/
CATEGORIES:Archive
END:VEVENT
END:VCALENDAR