BEGIN:VCALENDAR
VERSION:2.0
PRODID:-//Patriot Guard Riders - ECPv5.6.0//NONSGML v1.0//EN
CALSCALE:GREGORIAN
METHOD:PUBLISH
X-WR-CALNAME:Patriot Guard Riders
X-ORIGINAL-URL:https://www.patriotguard.org
X-WR-CALDESC:Events for Patriot Guard Riders
BEGIN:VTIMEZONE
TZID:America/New_York
BEGIN:DAYLIGHT
TZOFFSETFROM:-0500
TZOFFSETTO:-0400
TZNAME:EDT
DTSTART:20160313T070000
END:DAYLIGHT
BEGIN:STANDARD
TZOFFSETFROM:-0400
TZOFFSETTO:-0500
TZNAME:EST
DTSTART:20161106T060000
END:STANDARD
END:VTIMEZONE
BEGIN:VEVENT
DTSTART;TZID=America/New_York:20160616T090000
DTEND;TZID=America/New_York:20160616T110000
DTSTAMP:20210513T182710
CREATED:20160616T130000Z
LAST-MODIFIED:20191201T145108Z
UID:411293-1466067600-1466074800@www.patriotguard.org
SUMMARY:Wallace J. Beck\, Sr\, USAF
DESCRIPTION:A1C Wallace J. Beck\, Sr\nUSAF Korean Veteran\nBeggs\, OK\n16 June 16\n\n\n\nThe family of US Air Force Korean War Veteran A1C Wallace J. Beck\, Sr. has asked the Patriot Guard Riders to stand a flag line at his memorial service scheduled for 1000 Hours on Thursday\, 16 June 2016 at the Church of God of Prophecy\, 1st St & Cherokee Ave\, Beggs\, OK. This will be a flag line only. \nDate:  Thursday\, 16 June 2016 at 1000 Hours \nStaging:  0845 Hours\nBeggs General Store\n211 S Broadway Ave\n(Intersection of Hwy 16 & Broadway Ave)\nBeggs\, OK \nMandatory Briefing:  0900 Hours\nYou MUST attend the briefing. \nKSU:  0915 Hours for the short ride to the Church \nFlag Line:  Immediately upon arrival at the Church \nWeather:  Temperature in the low 90s and sunny with a Heat Index > 100.  Remember to Hydrate! Hydrate! Hydrate!!! \nRCIC:\nMike “Riptide” Rohatch\nmjroho@hotmail.com\n918.650.5082 \nAssisting:\nMorris “Pike Pass” Noftsger
URL:https://www.patriotguard.org/mission/wallace-j-beck-sr-usaf/
CATEGORIES:Archive
END:VEVENT
END:VCALENDAR