BEGIN:VCALENDAR
VERSION:2.0
PRODID:-//Patriot Guard Riders - ECPv5.6.0//NONSGML v1.0//EN
CALSCALE:GREGORIAN
METHOD:PUBLISH
X-WR-CALNAME:Patriot Guard Riders
X-ORIGINAL-URL:https://www.patriotguard.org
X-WR-CALDESC:Events for Patriot Guard Riders
BEGIN:VTIMEZONE
TZID:America/New_York
BEGIN:DAYLIGHT
TZOFFSETFROM:-0500
TZOFFSETTO:-0400
TZNAME:EDT
DTSTART:20160313T070000
END:DAYLIGHT
BEGIN:STANDARD
TZOFFSETFROM:-0400
TZOFFSETTO:-0500
TZNAME:EST
DTSTART:20161106T060000
END:STANDARD
END:VTIMEZONE
BEGIN:VEVENT
DTSTART;TZID=America/New_York:20160621T090000
DTEND;TZID=America/New_York:20160621T110000
DTSTAMP:20210513T190534
CREATED:20160621T130000Z
LAST-MODIFIED:20191201T145157Z
UID:411368-1466499600-1466506800@www.patriotguard.org
SUMMARY:Wallace Giroux\, USN Veteran / Red Bluff
DESCRIPTION:The family of United States Navy Petty Officer 3rd Class Wallace “Wally” Giroux have requested that the Patriot Guard Riders (PGR) and the Shasta Veterans Escort (SVE) escort this fallen Veteran to the Northern California Veterans Cemetery in Igo\, CA on June 21\, 2016. \nPetty Officer Giroux served from 1951 to 1955 aboard the USS Des Moines CA 134 and the USS North Hampton ECLC-1 in the Atlantic theater of operations. \nStage     Sacred Hearts 505 Main Street Red Bluff\, CA\nStage     0745\nBriefing  0800\nKSU       0815\nService   0930\nCremation/Chapel\nRoad/Ride Captains requested\n\n—\nRobert V. Prosser\n530 472-3350\nbvprosser@yahoo.com
URL:https://www.patriotguard.org/mission/wallace-giroux-usn-veteran-red-bluff/
CATEGORIES:Archive
END:VEVENT
END:VCALENDAR