BEGIN:VCALENDAR
VERSION:2.0
PRODID:-//Patriot Guard Riders - ECPv5.3.2.1//NONSGML v1.0//EN
CALSCALE:GREGORIAN
METHOD:PUBLISH
X-WR-CALNAME:Patriot Guard Riders
X-ORIGINAL-URL:https://www.patriotguard.org
X-WR-CALDESC:Events for Patriot Guard Riders
BEGIN:VTIMEZONE
TZID:America/New_York
BEGIN:DAYLIGHT
TZOFFSETFROM:-0500
TZOFFSETTO:-0400
TZNAME:EDT
DTSTART:20190310T070000
END:DAYLIGHT
BEGIN:STANDARD
TZOFFSETFROM:-0400
TZOFFSETTO:-0500
TZNAME:EST
DTSTART:20191103T060000
END:STANDARD
END:VTIMEZONE
BEGIN:VEVENT
DTSTART;VALUE=DATE:20190610
DTEND;VALUE=DATE:20190611
DTSTAMP:20210405T002341
CREATED:20190606T223246Z
LAST-MODIFIED:20190606T223246Z
UID:163868-1560124800-1560211199@www.patriotguard.org
SUMMARY:Waldo E. Bemis Jr.
DESCRIPTION:Honor Mission\nWaldo E. Bemis Jr.\, Veteran\nUSA – WWII\nPensacola\, Florida – 06-10-19\n\n\n\nABOUT THE MISSION: \nThe Patriot Guard has been invited by the family of PFC Waldo E. Bemis Jr.\, United States Army\, to stand in his honor and escort him to Barrancas National Cemetery\, NAS\, Pensacola\, FL. PFC Bemis served in the United States Army from July 1943 to Apr 1945.\n\n\nPRIMARY STAGING DETAILS: 06-10-19 \nStaging Time: 11:45 AM\n \nBurger King\n2 S. New Warrington Rd.\nPensacola\, Florida\n\n\nRide Captain: \nRoy W. Pippin\n251-979-7241\nsmokeynal.rp@gmail.com\n\n\nSpecial Instructions: \nNaval Air Station requires that long sleeve shirts\, long trousers\, long-fingered gloves\, DOT Approved helmets\, leather footwear covering the ankles and appropriate eye protection be worn while riding on board the base. \n12:30 PM   – Safety briefing for all riders\n12:45 PM   – KSU to Tracy Mortin Funeral Chapel\, 55 Coast Rd.\, Pensacola\, FL\n13:15 PM   – KSU to Barrancas National Cemetery with LEO escort\n14:00 )Pm – Honors at Barrancas National Cemetery\, Site A.\n\nFlags & Water:\nFlags will be provided.\nIf you have large bike flags\, please bring them.\nWater will be provided.\n\n\n\nSubmitted By: Ray Doyle \nPosition: Florida Assistant State Captain \n\nNote: You do not have to own/ride a motorcycle or be a veteran to join\, and membership is Free. The only requirement is RESPECT! To subscribe to receive mission notices\, log into the National Site and click on the Members tab at the top. Select the Subscribe to PGR Missions option.\n Print This Page
URL:https://www.patriotguard.org/mission/waldo-e-bemis-jr/
CATEGORIES:Honor Mission
END:VEVENT
END:VCALENDAR